BEGIN:VCALENDAR
VERSION:2.0
PRODID:-//ChamberMaster//Event Calendar 2.0//EN
METHOD:PUBLISH
X-PUBLISHED-TTL:P3D
REFRESH-INTERVAL:P3D
CALSCALE:GREGORIAN
BEGIN:VEVENT
DTSTART:20241024T203000Z
DTEND:20241024T223000Z
X-MICROSOFT-CDO-ALLDAYEVENT:FALSE
SUMMARY:Young Professionals Networking
DESCRIPTION:
X-ALT-DESC;FMTTYPE=text/html:
LOCATION:BURGERS 2 BEER 8941 Wilcox Drive Twinsburg *distribution of promotional material or solicitation for support of personal initiatives or programs is not allowed at this event. Thank you for your cooperation.
UID:e.2230.3278
SEQUENCE:3
DTSTAMP:20260421T161713Z
URL:https://business.twinsburgchamber.com/events/details/young-professionals-networking-3278
END:VEVENT

END:VCALENDAR
