BEGIN:VCALENDAR
VERSION:2.0
PRODID:-//ChamberMaster//Event Calendar 2.0//EN
METHOD:PUBLISH
X-PUBLISHED-TTL:P3D
REFRESH-INTERVAL:P3D
CALSCALE:GREGORIAN
BEGIN:VEVENT
DTSTART:20240926T203000Z
DTEND:20240926T223000Z
X-MICROSOFT-CDO-ALLDAYEVENT:FALSE
SUMMARY:Young Professionals Networking
DESCRIPTION:
X-ALT-DESC;FMTTYPE=text/html:
LOCATION:MAVIS WINKLE'S IRISH PUB 8870 Darrow Road Twinsburg
UID:e.2230.3275
SEQUENCE:3
DTSTAMP:20260421T181154Z
URL:https://business.twinsburgchamber.com/events/details/young-professionals-networking-3275
END:VEVENT

END:VCALENDAR
