BEGIN:VCALENDAR
VERSION:2.0
PRODID:-//ChamberMaster//Event Calendar 2.0//EN
METHOD:PUBLISH
X-PUBLISHED-TTL:P3D
REFRESH-INTERVAL:P3D
CALSCALE:GREGORIAN
BEGIN:VEVENT
DTSTART:20160616T223000Z
DTEND:20160617T000000Z
X-MICROSOFT-CDO-ALLDAYEVENT:FALSE
SUMMARY:WKSU's Community Conversations
DESCRIPTION:What issues are important to you and your neighbors?\nEvery day you discover more about your hometown and Northeast Ohio from the award-winning WKSU newsroom. You hear from us -and now we want to hear from you!\n\n\n\nWKSU's Community Conversations are intended to be robust dialogues and community gatherings focused on the issues and topics that are top of mind.\n\n\n\nWith WKSU News Director Andrew Meyer\, WKSU Program Director Ele Ellis\, WKSU Reporter and 'All Things Considered' Host Jeff St. Clair\n\n\n\nRegistration at www.wksu.org
X-ALT-DESC;FMTTYPE=text/html:<h2><span style="color:#0066ff"><strong>What issues are important to you and your neighbors?</strong></span></h2>\nEvery day you discover more about your hometown and Northeast Ohio from the award-winning WKSU newsroom. You hear from us -and now we want to hear from you!<br />\n<br />\nWKSU&#39\;s Community Conversations are intended to be robust dialogues and community gatherings focused on the issues and topics that are top of mind.<br />\n<br />\nWith WKSU News Director Andrew Meyer\, WKSU Program Director Ele Ellis\, WKSU Reporter and &#39\;All Things Considered&#39\; Host Jeff St. Clair<br />\n<br />\n<span style="color:#0066ff"><strong>Registration at www.wksu.org</strong></span>
LOCATION:At Kent State University's Regional Academic Center 2745 Creekside Drive\, Twinsburg\, OH 44087 330-888-6400 www.kent.edu/geauga
UID:e.2230.625
SEQUENCE:3
DTSTAMP:20260419T172612Z
URL:https://business.twinsburgchamber.com/events/details/wksu-s-community-conversations-06-16-2016-625
END:VEVENT

END:VCALENDAR
