BEGIN:VCALENDAR
VERSION:2.0
PRODID:-//ChamberMaster//Event Calendar 2.0//EN
METHOD:PUBLISH
X-PUBLISHED-TTL:P3D
REFRESH-INTERVAL:P3D
CALSCALE:GREGORIAN
BEGIN:VEVENT
DTSTART:20201027T190000Z
DTEND:20201027T200000Z
X-MICROSOFT-CDO-ALLDAYEVENT:FALSE
SUMMARY:Virtual Dementia Boot Camp-"Caring for the Caregiver"
DESCRIPTION:Virtual Dementia Boot Camp-"Caring for the Caregiver"\n\n\n\nAre you searching for answers regarding your loved one's well-being? Join us for a series of events and learn about:\n\n	Memory impairment and the impact associated with the disease\n	How to connect with your loved one\n	The importance of managing caregiver stress\n\n\n\nPRESENTED BY:\n\nKrystal Martin\, CDP\, Memory Care Director at Maplewood Senior Living
X-ALT-DESC;FMTTYPE=text/html:<span style="font-size:14px\;"><u><strong>Virtual Dementia Boot Camp-&quot\;Caring for the Caregiver&quot\;</strong></u><br />\n<br />\nAre you searching for answers regarding your loved one&#39\;s well-being? Join us for a series of events and learn about:</span>\n<ul>\n	<li><span style="font-size:14px\;">Memory impairment and the impact associated with the disease</span></li>\n	<li><span style="font-size:14px\;">How to connect with your loved one</span></li>\n	<li><span style="font-size:14px\;">The importance of managing caregiver stress</span></li>\n</ul>\n<br />\n<span style="font-size:14px\;">PRESENTED BY:<br />\n<b>Krystal Martin</b>\, CDP\, Memory Care Director at Maplewood Senior Living&nbsp\;</span>
LOCATION:Open to the public. This is a Virtual event. For more information\, or to RSVP\, contact RSVP@maplewoodsl.com Login instructions for ZOOM will be forwarded upon registration.
UID:e.2230.2362
SEQUENCE:3
DTSTAMP:20260425T193208Z
URL:https://business.twinsburgchamber.com/events/details/virtual-dementia-boot-camp-caring-for-the-caregiver-2362
END:VEVENT

END:VCALENDAR
