BEGIN:VCALENDAR
VERSION:2.0
PRODID:-//ChamberMaster//Event Calendar 2.0//EN
METHOD:PUBLISH
X-PUBLISHED-TTL:P3D
REFRESH-INTERVAL:P3D
CALSCALE:GREGORIAN
BEGIN:VEVENT
DTSTART:20160310T223000Z
DTEND:20160311T000000Z
X-MICROSOFT-CDO-ALLDAYEVENT:FALSE
SUMMARY:Twinsburg @ Twilight\, Studio Wish Salon
DESCRIPTION:Don't miss this opportunity to mix and mingle with other Chamber members in a relaxed and casual atmosphere! \n\n\n\nTwinsburg @ Twilight is open to all Chamber members and their guests at no charge! Light appetizers and drinks will generously be provided by Studio Wish Salon.
X-ALT-DESC;FMTTYPE=text/html:<br />\n<span style="font-size:14px\;"><span style="font-family:arial\;">Don&rsquo\;t miss this opportunity to mix and mingle with other Chamber members in a relaxed and casual atmosphere!&nbsp\;<br />\n<br />\nTwinsburg @ Twilight is open to all Chamber members and their guests at no charge! Light appetizers and drinks will generously be provided by Studio Wish Salon.&nbsp\;</span></span>
LOCATION:Studio Wish Salon 8922 Darrow Road\, #102E Twinsburg\, OH 44087
UID:e.2230.322
SEQUENCE:3
DTSTAMP:20260419T123417Z
URL:https://business.twinsburgchamber.com/events/details/twinsburg-twilight-studio-wish-salon-03-10-2016-322
END:VEVENT

END:VCALENDAR
