BEGIN:VCALENDAR
VERSION:2.0
PRODID:-//ChamberMaster//Event Calendar 2.0//EN
METHOD:PUBLISH
X-PUBLISHED-TTL:P3D
REFRESH-INTERVAL:P3D
CALSCALE:GREGORIAN
BEGIN:VEVENT
DTSTART:20160818T213000Z
DTEND:20160818T230000Z
X-MICROSOFT-CDO-ALLDAYEVENT:FALSE
SUMMARY:Twinsburg @ Twilight\, Spice Thai Cuisine
DESCRIPTION:-EVENT CANCELED-  \n\nOwner of restaurant had to cancel due to unforeseen commitment \n\n\n\nDon't miss this opportunity to mix and mingle with other Chamber members in a relaxed and casual atmosphere! \n\n\n\nTwinsburg @ Twilight is open to all Chamber members and their guests at no charge! Light appetizers and drinks will generously be provided by Spice Thai Cuisine.
X-ALT-DESC;FMTTYPE=text/html:<br />\n<span style="font-size:16px\;"><span style="color:#FF0000\;"><strong>-EVENT CANCELED- &nbsp\;</strong><br />\n<span style="font-size:14px\;">Owner of restaurant had to cancel due to unforeseen commitment&nbsp\;</span></span></span><br />\n<br />\n<span style="font-size:14px\;"><span style="font-family:arial\;">Don&rsquo\;t miss this opportunity to mix and mingle with other Chamber members in a relaxed and casual atmosphere!&nbsp\;<br />\n<br />\nTwinsburg @ Twilight is open to all Chamber members and their guests at no charge! Light appetizers and drinks will generously be provided by Spice Thai Cuisine. &nbsp\;</span></span>
LOCATION:Spice Thai Cuisine 8870 Darrow Road Twinsburg\, OH 44087
UID:e.2230.643
SEQUENCE:3
DTSTAMP:20260419T204817Z
URL:https://business.twinsburgchamber.com/events/details/twinsburg-twilight-spice-thai-cuisine-08-18-2016-643
END:VEVENT

END:VCALENDAR
