BEGIN:VCALENDAR
VERSION:2.0
PRODID:-//ChamberMaster//Event Calendar 2.0//EN
METHOD:PUBLISH
X-PUBLISHED-TTL:P3D
REFRESH-INTERVAL:P3D
CALSCALE:GREGORIAN
BEGIN:VEVENT
DTSTART:20170817T210000Z
DTEND:20170817T230000Z
X-MICROSOFT-CDO-ALLDAYEVENT:FALSE
SUMMARY:Twinsburg @ Twilight - Party on the Patio at Blue Canyon
DESCRIPTION:Don't miss this opportunity to mix and mingle with other Chamber members in a relaxed and casual atmosphere! \n\n\n\nTwinsburg @ Twilight After Hours is open to all Chamber members and their guests at no charge! Light appetizers and cash bar will generously be provided by Blue Canyon Kitchen & Tavern.
X-ALT-DESC;FMTTYPE=text/html:<br />\n<span style="font-size:14px\;"><span style="font-family:arial\;">Don&rsquo\;t miss this opportunity to mix and mingle with other Chamber members in a relaxed and casual atmosphere!&nbsp\;<br />\n<br />\nTwinsburg @ Twilight After Hours is open to all Chamber members and their guests at no charge! Light appetizers and cash bar will generously be provided by <a href="http://bluecanyonrestaurant.com" target="_blank">Blue Canyon Kitchen &amp\; Tavern</a>.</span></span>
LOCATION:Blue Canyon Kitchen & Tavern Outside Patio 8960 Wilcox Drive Twinsburg\, OH 44087
UID:e.2230.1762
SEQUENCE:3
DTSTAMP:20260420T174241Z
URL:https://business.twinsburgchamber.com/events/details/twinsburg-twilight-party-on-the-patio-at-blue-canyon-1762
END:VEVENT

END:VCALENDAR
