BEGIN:VCALENDAR
VERSION:2.0
PRODID:-//ChamberMaster//Event Calendar 2.0//EN
METHOD:PUBLISH
X-PUBLISHED-TTL:P3D
REFRESH-INTERVAL:P3D
CALSCALE:GREGORIAN
BEGIN:VEVENT
DTSTART:20191025T200000Z
DTEND:20191025T210000Z
X-MICROSOFT-CDO-ALLDAYEVENT:FALSE
SUMMARY:Twinsburg Karate Institute Re - Grand Opening & Ribbon Cutting Celebration
DESCRIPTION:You're Invited!  \n\nGrand Re-Opening & Ribbon Cutting for Twinsburg Karate Institute at their NEW LOCATION   \n\n\n\nJoin us in celebrating their new and expanded facility in the community.  \n\n\n\nComplimentary refreshments will be provided.
X-ALT-DESC;FMTTYPE=text/html:<br />\n<span style="font-size:14px\;"><strong><span style="font-family:arial\;">You&#39\;re Invited!&nbsp\; </span></strong></span><br />\n<span style="color:#FF0000\;"><strong style="color: rgb(51\, 51\, 51)\; font-family: sans-serif\, Arial\, Verdana\, &quot\;Trebuchet MS&quot\;\; font-size: 14px\; background-color: rgb(255\, 255\, 255)\;"><span style="font-family: arial\;">Grand Re-Opening &amp\; Ribbon Cutting for Twinsburg Karate Institute at their NEW LOCATION&nbsp\; &nbsp\;</span></strong></span><br />\n<br />\n<span style="font-size:14px\;"><span style="font-family:arial\;">Join us in celebrating their new and expanded facility in the community.&nbsp\;&nbsp\;<br />\n<br />\nComplimentary refreshments will be provided.</span></span>
LOCATION:Twinsburg Karate Institute 2272 Pinnacle Parkway Twinsburg\, OH 44087
UID:e.2230.2213
SEQUENCE:3
DTSTAMP:20260422T164543Z
URL:https://business.twinsburgchamber.com/events/details/twinsburg-karate-institute-re-grand-opening-ribbon-cutting-celebration-2213
END:VEVENT

END:VCALENDAR
