BEGIN:VCALENDAR
VERSION:2.0
PRODID:-//ChamberMaster//Event Calendar 2.0//EN
METHOD:PUBLISH
X-PUBLISHED-TTL:P3D
REFRESH-INTERVAL:P3D
CALSCALE:GREGORIAN
BEGIN:VEVENT
DTSTART:20190305T200000Z
DTEND:20190305T210000Z
X-MICROSOFT-CDO-ALLDAYEVENT:FALSE
SUMMARY:Twinsburg Fitness Center & Kent State University\, Geauga Regional Academic Center Ribbon Cutting Celebration
DESCRIPTION:You're invited\, to the ribbon cutting celebration of the partnership with the City of Twinsburg Fitness Center and Kent State University\, Geauga Regional Academic Center.
X-ALT-DESC;FMTTYPE=text/html:<span style="font-size:14px\;"><strong><span style="font-family:arial\;">You&#39\;re invited\, to the ribbon cutting celebration of the partnership with the City of Twinsburg Fitness Center and Kent State University\, Geauga Regional Academic Center.&nbsp\; &nbsp\;&nbsp\;</span></strong></span>
LOCATION:Twinsburg Fitness Center 10084 Ravenna Road (behind Twinsburg High School) Twinsburg\, OH 44087
UID:e.2230.2184
SEQUENCE:3
DTSTAMP:20260422T020451Z
URL:https://business.twinsburgchamber.com/events/details/twinsburg-fitness-center-kent-state-university-geauga-regional-academic-center-ribbon-cutting-celebration-2184
END:VEVENT

END:VCALENDAR
