BEGIN:VCALENDAR
VERSION:2.0
PRODID:-//ChamberMaster//Event Calendar 2.0//EN
METHOD:PUBLISH
X-PUBLISHED-TTL:P3D
REFRESH-INTERVAL:P3D
CALSCALE:GREGORIAN
BEGIN:VEVENT
DTSTART:20170106T130000Z
DTEND:20170106T140000Z
X-MICROSOFT-CDO-ALLDAYEVENT:FALSE
SUMMARY:Twinsburg\, Cuyahoga Falls\, Kent\, Streetsboro\, Tallmadge\, Hudson\, Fairlawn and Stow Area Chambers of Commerce for "First Friday Networking ON THE GO"!
DESCRIPTION:*BACK FOR 2017!*\n\n                             Same place and time!\n\n\n\n8 CHAMBERS OF COMMERCE \n\nCuyahoga Falls | Hudson Area | Kent Area | Streetsboro Area | Tallmadge | Twinsburg | Stow-Munroe Falls I Fairlawn\n\n\n\nA professional business leaders networking reception before work the first Friday of every month. Bring business cards and your 30 second business commercial.  \n\n\n\n          THE place to be the first Friday of every month!
X-ALT-DESC;FMTTYPE=text/html:<span style="color:#FF0000\;"><strong><span style="font-size:18px\;">&nbsp\; &nbsp\; &nbsp\; &nbsp\; &nbsp\; &nbsp\; &nbsp\; &nbsp\; &nbsp\; &nbsp\; &nbsp\; &nbsp\; &nbsp\;<br />\n&nbsp\;&nbsp\; &nbsp\; &nbsp\; &nbsp\; &nbsp\; &nbsp\; &nbsp\; &nbsp\; &nbsp\; &nbsp\; &nbsp\; &nbsp\; &nbsp\;&nbsp\; &nbsp\; &nbsp\;*BACK FOR 2017!*<br />\n&nbsp\; &nbsp\; &nbsp\; &nbsp\; &nbsp\; &nbsp\; &nbsp\; &nbsp\; &nbsp\; &nbsp\; &nbsp\; &nbsp\; &nbsp\; &nbsp\; &nbsp\;Same place and time!</span></strong></span><br />\n<br />\n<span style="font-size:16px\;"><span style="font-family:arial\;"><strong><span style="color:red\;">8 CHAMBERS OF COMMERCE</span> </strong></span></span><br />\n<span style="font-family:arial\;"><span style="font-size:14px\;">Cuyahoga Falls | Hudson Area | Kent Area | Streetsboro Area | Tallmadge | Twinsburg | Stow-Munroe Falls I Fairlawn</span></span><br />\n<br />\n<span style="font-size:14px\;"><span style="font-family:arial\;">A professional business leaders networking reception before work the first Friday of every month. Bring business cards and your 30 second business commercial.&nbsp\;&nbsp\;<br />\n<br />\n<span style="color:#FF0000\;"><strong>&nbsp\; &nbsp\; &nbsp\; &nbsp\;<span style="font-size:16px\;">&nbsp\; &nbsp\;THE place to be the first Friday of every month!&nbsp\;</span></strong></span></span></span>
LOCATION:Great Lakes Honda 43 Pruitt Blvd Akron\, OH 44310
UID:e.2230.1682
SEQUENCE:3
DTSTAMP:20260420T054738Z
URL:https://business.twinsburgchamber.com/events/details/twinsburg-cuyahoga-falls-kent-streetsboro-tallmadge-hudson-fairlawn-and-stow-area-chambers-of-commerce-for-first-friday-networking-on-the-go-1682
END:VEVENT

END:VCALENDAR
