BEGIN:VCALENDAR
VERSION:2.0
PRODID:-//ChamberMaster//Event Calendar 2.0//EN
METHOD:PUBLISH
X-PUBLISHED-TTL:P3D
REFRESH-INTERVAL:P3D
CALSCALE:GREGORIAN
BEGIN:VEVENT
DTSTART:20161104T120000Z
DTEND:20161104T130000Z
X-MICROSOFT-CDO-ALLDAYEVENT:FALSE
SUMMARY:Twinsburg\, Cuyahoga Falls\, Kent\, Streetsboro\, Tallmadge\, Hudson and Stow Area Chambers of Commerce for "First Friday Networking ON THE GO"!
DESCRIPTION:A professional business leaders networking reception before work the first Friday of every month. Bring business cards and your 30 second business commercial.  \n\n\n\n          THE place to be the first Friday of every month!
X-ALT-DESC;FMTTYPE=text/html:<br />\n<span style="font-size:14px\;"><span style="font-family:arial\;">A professional business leaders networking reception before work the first Friday of every month. Bring business cards and your 30 second business commercial.&nbsp\;&nbsp\;<br />\n<br />\n<span style="color:#FF0000\;"><strong>&nbsp\; &nbsp\; &nbsp\; &nbsp\;<span style="font-size:16px\;">&nbsp\; &nbsp\;THE place to be the first Friday of every month!&nbsp\;</span></strong></span></span></span>
LOCATION:Great Lakes Honda 43 Pruitt Blvd Akron\, OH 44310
UID:e.2230.1670
SEQUENCE:3
DTSTAMP:20260420T020904Z
URL:https://business.twinsburgchamber.com/events/details/twinsburg-cuyahoga-falls-kent-streetsboro-tallmadge-hudson-and-stow-area-chambers-of-commerce-for-first-friday-networking-on-the-go-1670
END:VEVENT

END:VCALENDAR
