BEGIN:VCALENDAR
VERSION:2.0
PRODID:-//ChamberMaster//Event Calendar 2.0//EN
METHOD:PUBLISH
X-PUBLISHED-TTL:P3D
REFRESH-INTERVAL:P3D
CALSCALE:GREGORIAN
BEGIN:VEVENT
DTSTART:20160603T120000Z
DTEND:20160603T130000Z
X-MICROSOFT-CDO-ALLDAYEVENT:FALSE
SUMMARY:Twinsburg\, Cuyahoga Falls\, Kent\, Streetsboro\, Tallmadge and Hudson Area Chambers of Commerce for "First Friday Networking ON THE GO"!
DESCRIPTION:Streetsboro Area Chamber ADDED for 2016!\n\n                       \n\n                      Hudson Chamber ADDED for May!  \n\n\n\nIT'S BACK FOR 2016!  A professional business leaders networking reception before work the first Friday of every month. Bring business cards and your 30 second business commercial.  \n\n\n\n          THE place to be the first Friday of every month!
X-ALT-DESC;FMTTYPE=text/html:<strong>&nbsp\; &nbsp\; &nbsp\; &nbsp\; &nbsp\; &nbsp\; &nbsp\; &nbsp\; &nbsp\;<br />\n&nbsp\;&nbsp\; &nbsp\; &nbsp\; &nbsp\; &nbsp\; &nbsp\; &nbsp\; <span style="font-size:16px\;"><span style="font-family:arial\;"><span style="color:#FF0000\;">Streetsboro Area Chamber ADDED for 2016!<br />\n&nbsp\; &nbsp\; &nbsp\; &nbsp\; &nbsp\; &nbsp\; &nbsp\; &nbsp\; &nbsp\; &nbsp\; &nbsp\; &nbsp\;<br />\n&nbsp\; &nbsp\; &nbsp\; &nbsp\; &nbsp\; &nbsp\; &nbsp\; &nbsp\; &nbsp\; &nbsp\; &nbsp\;&nbsp\;Hudson Chamber ADDED for May! &nbsp\;</span></span></span></strong><br />\n<br />\n<span style="font-size:14px\;"><span style="font-family:arial\;"><span style="color:#FF0000\;"><strong>IT&#39\;S BACK FOR 2016! &nbsp\;</strong></span>A professional business leaders networking reception before work the first Friday of every month. Bring business cards and your 30 second business commercial.&nbsp\;&nbsp\;<br />\n<br />\n<span style="color:#FF0000\;"><strong>&nbsp\; &nbsp\; &nbsp\; &nbsp\;<span style="font-size:16px\;">&nbsp\; &nbsp\;THE place to be the first Friday of every month!&nbsp\;</span></strong></span></span></span>
LOCATION:Great Lakes Honda 43 Pruitt Blvd Akron\, OH 44310
UID:e.2230.492
SEQUENCE:3
DTSTAMP:20260419T172741Z
URL:https://business.twinsburgchamber.com/events/details/twinsburg-cuyahoga-falls-kent-streetsboro-tallmadge-and-hudson-area-chambers-of-commerce-for-first-friday-networking-on-the-go-06-03-2016-492
END:VEVENT

END:VCALENDAR
