BEGIN:VCALENDAR
VERSION:2.0
PRODID:-//ChamberMaster//Event Calendar 2.0//EN
METHOD:PUBLISH
X-PUBLISHED-TTL:P3D
REFRESH-INTERVAL:P3D
CALSCALE:GREGORIAN
BEGIN:VEVENT
DTSTART:20191009T120000Z
DTEND:20191009T133000Z
X-MICROSOFT-CDO-ALLDAYEVENT:FALSE
SUMMARY:Twinsburg Chamber Board of Directors Meeting
DESCRIPTION:The monthly Board of Director's Meeting for the Twinsburg Chamber of Commerce.
X-ALT-DESC;FMTTYPE=text/html:The monthly Board of Director's Meeting for the Twinsburg Chamber of Commerce.
LOCATION:Twinbsurg Public Library
UID:e.2230.2171
SEQUENCE:3
DTSTAMP:20260422T202743Z
URL:https://business.twinsburgchamber.com/events/details/twinsburg-chamber-board-of-directors-meeting-10-09-2019-2171
END:VEVENT

END:VCALENDAR
