BEGIN:VCALENDAR
VERSION:2.0
PRODID:-//ChamberMaster//Event Calendar 2.0//EN
METHOD:PUBLISH
X-PUBLISHED-TTL:P3D
REFRESH-INTERVAL:P3D
CALSCALE:GREGORIAN
BEGIN:VEVENT
DTSTART:20220622T203000Z
DTEND:20220622T223000Z
X-MICROSOFT-CDO-ALLDAYEVENT:FALSE
SUMMARY:TWIN (Twinsburg Women In Networking) After Hours
DESCRIPTION:Come join the ladies of TWIN for a Networking After Hours event!\n\n\n\nGuest Speaker\, Dr. Patricia Stofiel of Life Hearing & Balance LLC. \n\nLife Hearing and Balance\, LLC is a private practice audiology clinic\, established in 2018.  This establishment is a Veteran and woman owned healthcare facility is specialized in clinical diagnostics\, treatment\, and therapy for audiology and vestibular medical conditions.  We are operated by Veterans to better serve the local population for all their hearing loss\, tinnitus\, and vestibular needs.
X-ALT-DESC;FMTTYPE=text/html:<span style="font-size:14.0pt\;">Come join the ladies of TWIN for a Networking After Hours event!</span><br />\n<br />\n<em><span style="font-size:18px\;"><strong>Guest Speaker\, Dr. Patricia Stofiel of Life Hearing &amp\; Balance LLC</strong>.</span></em>&nbsp\;<br />\n<span style="background:white\;"><span style="color:black\;">Life Hearing and Balance\, LLC is a private practice audiology clinic\, established in 2018.&nbsp\; This establishment is a Veteran and woman owned healthcare facility is specialized in clinical diagnostics\, treatment\, and therapy for audiology and vestibular medical conditions.&nbsp\; We are operated by Veterans to better serve the local population for all their hearing loss\, tinnitus\, and vestibular needs.</span></span><br />\n&nbsp\;
LOCATION:Harmonii Social 10735 Ravenna Road Twinsburg
UID:e.2230.3183
SEQUENCE:3
DTSTAMP:20260422T045117Z
URL:https://business.twinsburgchamber.com/events/details/twin-twinsburg-women-in-networking-after-hours-3183
END:VEVENT

END:VCALENDAR
