BEGIN:VCALENDAR
VERSION:2.0
PRODID:-//ChamberMaster//Event Calendar 2.0//EN
METHOD:PUBLISH
X-PUBLISHED-TTL:P3D
REFRESH-INTERVAL:P3D
CALSCALE:GREGORIAN
BEGIN:VEVENT
DTSTART:20180511T223000Z
DTEND:20180511T233000Z
X-MICROSOFT-CDO-ALLDAYEVENT:FALSE
SUMMARY:Twin Masks Performing Arts Center Grand Opening & Ribbon Cutting Celebration
DESCRIPTION:You're Invited! Twins Masks Performing Arts Center Grand Opening & Ribbon Cutting celebrating their new location.
X-ALT-DESC;FMTTYPE=text/html:<br />\n<span style="font-size:14px\;"><span style="font-family:arial\;">You&#39\;re Invited! Twins Masks Performing Arts Center Grand Opening &amp\; Ribbon Cutting&nbsp\;celebrating their new location.&nbsp\;&nbsp\;</span></span>
LOCATION:Twin Masks Performing Arts Center 9076 Church Street\, Suite 2 & 3 Twinsburg\, OH 44087
UID:e.2230.1817
SEQUENCE:3
DTSTAMP:20260421T092045Z
URL:https://business.twinsburgchamber.com/events/details/twin-masks-performing-arts-center-grand-opening-ribbon-cutting-celebration-1817
END:VEVENT

END:VCALENDAR
