BEGIN:VCALENDAR
VERSION:2.0
PRODID:-//ChamberMaster//Event Calendar 2.0//EN
METHOD:PUBLISH
X-PUBLISHED-TTL:P3D
REFRESH-INTERVAL:P3D
CALSCALE:GREGORIAN
BEGIN:VEVENT
DTSTART:20170617T180000Z
DTEND:20170618T000000Z
X-MICROSOFT-CDO-ALLDAYEVENT:FALSE
SUMMARY:The Taste of Twinsburg
DESCRIPTION:Please consider being a part of the annual food festival\, held on Twinsburg Township Square\, to promote the local food options in Twinsburg\, Twinsburg Township and Reminderville.\n\n\n\nThe day includes\, food vendors from the area\, local business vendor booths\, live music\, kids zone activities and of course a beer & wine tent hosted by the Chamber.\n\n\n\nIf you want to be a part of this fantastic\, family event\, please contact us. We are a non-profit that donates all proceeds to local charities.
X-ALT-DESC;FMTTYPE=text/html:Please consider being a part of the annual food festival\, held on Twinsburg Township Square\, to promote the local food options in Twinsburg\, Twinsburg Township and Reminderville.<br />\n<br />\nThe day includes\, food vendors from the area\, local business vendor booths\, live music\, kids zone activities and of course a beer &amp\; wine tent hosted by the Chamber.<br />\n<br />\nIf you want to be a part of this fantastic\, family event\, please contact us. We are a non-profit that donates all proceeds to local charities.
LOCATION:
UID:e.2230.1655
SEQUENCE:3
DTSTAMP:20260420T143215Z
URL:https://business.twinsburgchamber.com/events/details/the-taste-of-twinsburg-1655
END:VEVENT

END:VCALENDAR
