BEGIN:VCALENDAR
VERSION:2.0
PRODID:-//ChamberMaster//Event Calendar 2.0//EN
METHOD:PUBLISH
X-PUBLISHED-TTL:P3D
REFRESH-INTERVAL:P3D
CALSCALE:GREGORIAN
BEGIN:VEVENT
DTSTART:20180609T180000Z
DTEND:20180609T230000Z
X-MICROSOFT-CDO-ALLDAYEVENT:FALSE
SUMMARY:The Taste of Twinsburg
DESCRIPTION:Business Booth Application-click here\n\n\n\nJoin us for this Annual Food Festival\, held on Twinsburg Township Square in conjunction with the Wild Roots Market. \n\n\n\nThe day includes: food vendors from the area\, local business vendor booths\, live music\, artisan vendors\, and a refreshment tent with beer\, wine\, and soft drinks hosted by the Chamber.\n\n\n\nIf you want to be a part of this event\, please contact us at (330) 963-6249
X-ALT-DESC;FMTTYPE=text/html:<span style="font-size:14px\;"><a href="https://chambermaster.blob.core.windows.net/userfiles/UserFiles/chambers/2230/File/TasteofTwinsburgExhibitorFullPacket-RegistrationFormTerms-Conditions20181.pdf"><span style="color:#0000CD\;"><span style="font-size:22px\;">Business Booth Application-click here</span></span></a><br />\n<br />\nJoin us for this Annual Food Festival\, held on Twinsburg Township Square in conjunction&nbsp\;with the Wild Roots Market.&nbsp\;<br />\n<br />\nThe day includes: food vendors from the area\, local business vendor booths\, live music\, artisan vendors\, and a refreshment tent with beer\, wine\, and soft drinks&nbsp\;hosted by the Chamber.<br />\n<br />\nIf you want to be a part of this event\, please contact us at (330) 963-6249</span>
LOCATION:Twinsburg Township Square & Church Street Corner of Rt 82 (Aurora Rd.) & Rt. 91 (Darrow Rd.) Twinsburg\, OH 44087
UID:e.2230.1656
SEQUENCE:3
DTSTAMP:20260421T104518Z
URL:https://business.twinsburgchamber.com/events/details/the-taste-of-twinsburg-06-16-2018-1656
END:VEVENT

END:VCALENDAR
