BEGIN:VCALENDAR
VERSION:2.0
PRODID:-//ChamberMaster//Event Calendar 2.0//EN
METHOD:PUBLISH
X-PUBLISHED-TTL:P3D
REFRESH-INTERVAL:P3D
CALSCALE:GREGORIAN
BEGIN:VEVENT
DTSTART:20161117T233000Z
DTEND:20161118T010000Z
X-MICROSOFT-CDO-ALLDAYEVENT:FALSE
SUMMARY:The story behind “Explore Twinsburg - A Photographic Essay of Twinsburg\, Ohio"
DESCRIPTION:The Story behind "Explore Twinsburg" Come listen to presentations on the story behind Explore Twinsburg\, a newly released book about life in Twinsburg. Gain insights of how a storied past  influences life in Twinsburg today.
X-ALT-DESC;FMTTYPE=text/html:<br />\n<span style="font-size:14px\;"><span style="font-family:arial\;"><strong>The Story behind &quot\;Explore Twinsburg&quot\;</strong>&nbsp\;<span style="color:#262626\;">Come listen to presentations on the story behind </span><span style="color:#262626\;">Explore Twinsburg\, a newly released book about life in Twinsburg. Gain insights of how a storied past &nbsp\;</span><span style="color:#262626\;">influences life in Twinsburg today. </span></span></span><br />\n&nbsp\;
LOCATION:Twinsburg Public Library Room # 2
UID:e.2230.1677
SEQUENCE:3
DTSTAMP:20260420T020950Z
URL:https://business.twinsburgchamber.com/events/details/the-story-behind-explore-twinsburg-a-photographic-essay-of-twinsburg-ohio-1677
END:VEVENT

END:VCALENDAR
