BEGIN:VCALENDAR
VERSION:2.0
PRODID:-//ChamberMaster//Event Calendar 2.0//EN
METHOD:PUBLISH
X-PUBLISHED-TTL:P3D
REFRESH-INTERVAL:P3D
CALSCALE:GREGORIAN
BEGIN:VEVENT
DTSTART:20201020T223000Z
DTEND:20201020T233000Z
X-MICROSOFT-CDO-ALLDAYEVENT:FALSE
SUMMARY:The Academy @ TCSD-Introduction to the Business Pathway
DESCRIPTION:The Academy program at Twinsburg High School presents an "Introduction to the Buisness Pathway."  Participants will get a general overview of all things business.  (This experience should be viewed prior to any higher level discussion for the upper level opportunities in the pathway.)\n\n\n\nThe event features Jeff Orloff\, COO of SPIRE Institute and President of ReCreation Sports & Entertainment.\n\n\n\nClick HERE to register
X-ALT-DESC;FMTTYPE=text/html:The Academy program at Twinsburg High School presents an &quot\;Introduction to the Buisness Pathway.&quot\;&nbsp\; Participants will get a general overview of all things business.&nbsp\; (<em>This experience should be viewed prior to any higher level discussion for the upper level opportunities in the pathway.)</em><br />\n<br />\nThe event features Jeff Orloff\, COO of SPIRE Institute and President of ReCreation Sports &amp\; Entertainment.<br />\n<br />\n<span style="font-size:12px\;"><span style="font-size:16px\;">Click <a href="https://docs.google.com/forms/d/e/1FAIpQLSdi301wiOS6DTp937HzeqrqqUOwCigUDw11mvlhlTRSpHDigA/viewform">HERE</a> to register</span></span>
LOCATION:
UID:e.2230.2376
SEQUENCE:3
DTSTAMP:20260425T193053Z
URL:https://business.twinsburgchamber.com/events/details/the-academy-tcsd-introduction-to-the-business-pathway-2376
END:VEVENT

END:VCALENDAR
