BEGIN:VCALENDAR
VERSION:2.0
PRODID:-//ChamberMaster//Event Calendar 2.0//EN
METHOD:PUBLISH
X-PUBLISHED-TTL:P3D
REFRESH-INTERVAL:P3D
CALSCALE:GREGORIAN
BEGIN:VEVENT
DTSTART:20170125T130000Z
DTEND:20170125T150000Z
X-MICROSOFT-CDO-ALLDAYEVENT:FALSE
SUMMARY:Ten Tax Breaks for Businesses & What you Could Be Missing
DESCRIPTION:NMS\, Inc. Certified Public Accountants will discuss tax breaks and advantages that are available to small and mid-size businesses that often even savvy business people overlook.  Special focus on businesses that are located in our area\, including manufacturers\, distributors\, contractors\, and service providers.
X-ALT-DESC;FMTTYPE=text/html:<span style="font-family:arial\,helvetica\,sans-serif"><span style="font-size:11.0pt">NMS\, Inc. Certified Public Accountants will discuss tax breaks and advantages that are available to small and mid-size businesses that often even savvy business people overlook.&nbsp\; Special focus on businesses that are located in our area\, including manufacturers\, distributors\, contractors\, and service providers.</span></span><br />\n<br />\n&nbsp\;
LOCATION:Skye Bistro\, Best Western 8434 Mentor Avenue\, Mentor\, Ohio
UID:e.2230.1699
SEQUENCE:3
DTSTAMP:20260420T054812Z
URL:https://business.twinsburgchamber.com/events/details/ten-tax-breaks-for-businesses-what-you-could-be-missing-1699
END:VEVENT

END:VCALENDAR
