BEGIN:VCALENDAR
VERSION:2.0
PRODID:-//ChamberMaster//Event Calendar 2.0//EN
METHOD:PUBLISH
X-PUBLISHED-TTL:P3D
REFRESH-INTERVAL:P3D
CALSCALE:GREGORIAN
BEGIN:VEVENT
DTSTART:20160914T153000Z
DTEND:20160914T170000Z
X-MICROSOFT-CDO-ALLDAYEVENT:FALSE
SUMMARY:T.W.I.N. - Twinsburg Women In Networking September Luncheon with Lisa Crilley Mallis "Escape the Over-Committed Trap"
DESCRIPTION:Escape the Overcommitted Trap:  Focus on Your Priorities Without Feeling Guilty in 3 Easy Steps\n\n\n\nYou find yourself saying "yes" to everyone else\, and your own goals are getting lost in the shuffle. You are frustrated that YOUR to-do's keep getting squeezed out each week\, keeping you from accomplishing all of YOUR goals. Your plate is full\, because\, let's face it\, busy people get things done!  Yet\, you are being to feel the pull. Participants will:\n\n\n	Learn the red flags that lead to being overcommitted and create a plan to upgrade your results\n	Discover proven strategies to effortlessly prioritize and so you don't rewrite your to-do's over and over again\n	Create a personalized plan to "Say No" without feeling guilty\n\nLisa Crilley Mallis is a certified coach\, author\, and speaker.  She works with focused\, successful business owners who are over committed and still want to achieve more.\n\n\n\nFor over 15 years\, Lisa has provided customized\, real solutions to everyday time management challenges\, allowing her clients to accomplish more in less time\, while still enjoying their lives.   She delivers motivating keynote speeches\, leads dynamic and engaging workshops\, and creates results oriented coaching programs. Lisa lives in Chagrin Falls\, Ohio with her husband Lou and his dog\, Neuton.  She loves chocolate\, the beach\, and country music.
X-ALT-DESC;FMTTYPE=text/html:<br />\n<span style="color:#4B0082\;"><span style="font-size:14px\;"><span style="font-family:arial\;"><strong>Escape the Overcommitted Trap:&nbsp\; Focus on Your Priorities Without Feeling Guilty in 3 Easy Steps</strong><br />\n<br />\nYou find yourself saying &quot\;yes&quot\; to everyone else\, and your own goals are getting lost in the shuffle. You are frustrated that YOUR to-do&rsquo\;s keep getting squeezed out each week\, keeping you from accomplishing all of YOUR goals. Your plate is full\, because\, let&rsquo\;s face it\, busy people get things done!&nbsp\; Yet\, you are being to feel the pull.&nbsp\;Participants will:</span></span></span>\n\n<ul>\n	<li><span style="color:#4B0082\;"><span style="font-size:14px\;"><span style="font-family:arial\;">Learn the red flags that lead to being&nbsp\;<strong>overcommitted&nbsp\;</strong>and create a plan to upgrade your results</span></span></span></li>\n	<li><span style="color:#4B0082\;"><span style="font-size:14px\;"><span style="font-family:arial\;">Discover proven strategies to effortlessly&nbsp\;<strong>prioritize&nbsp\;</strong>and so you don&rsquo\;t rewrite your to-do&rsquo\;s over and over again</span></span></span></li>\n	<li><span style="color:#4B0082\;"><span style="font-size:14px\;"><span style="font-family:arial\;">Create a personalized plan to&nbsp\;<strong>&ldquo\;Say No&rdquo\;&nbsp\;</strong>without feeling guilty</span></span></span></li>\n</ul>\n<span style="color:#4B0082\;"><span style="font-size:14px\;"><span style="font-family:arial\;">Lisa Crilley Mallis is a certified coach\, author\, and speaker.&nbsp\; She works with focused\, successful business owners who are over committed and still want to achieve more.<br />\n<br />\nFor over 15 years\, Lisa has provided customized\, real solutions to everyday time management challenges\, allowing her clients to accomplish more in less time\, while still enjoying their lives.&nbsp\;&nbsp\; She delivers motivating keynote speeches\, leads dynamic and engaging workshops\, and creates results oriented coaching programs.&nbsp\;Lisa lives in Chagrin Falls\, Ohio with her husband Lou and his dog\, Neuton.&nbsp\; She loves chocolate\, the beach\, and country music.</span></span></span><br />\n&nbsp\;
LOCATION:Blue Canyon Kitchen and Tavern 8960 Wilcox Drive Twinsburg\, OH 44087
UID:e.2230.648
SEQUENCE:3
DTSTAMP:20260419T223240Z
URL:https://business.twinsburgchamber.com/events/details/t-w-i-n-twinsburg-women-in-networking-september-luncheon-with-lisa-crilley-mallis-escape-the-over-committed-trap-09-14-2016-648
END:VEVENT

END:VCALENDAR
