BEGIN:VCALENDAR
VERSION:2.0
PRODID:-//ChamberMaster//Event Calendar 2.0//EN
METHOD:PUBLISH
X-PUBLISHED-TTL:P3D
REFRESH-INTERVAL:P3D
CALSCALE:GREGORIAN
BEGIN:VEVENT
DTSTART:20170920T153000Z
DTEND:20170920T170000Z
X-MICROSOFT-CDO-ALLDAYEVENT:FALSE
SUMMARY:T.W.I.N. (Twinsburg Women In Networking) September Luncheon with Hudson Professional Women In Business
DESCRIPTION:"Like" our T.W.I.N Group Page on Facebook! \n\n\n\nJoin the Twinsburg Women In Networking (T.W.I.N.) and the Hudson Chamber's Professional Women's Network for our September luncheon focused on something we all have....Stress! Dr. Andrew Brady with Optimal Spine and Wellness will cover the following:\n\n	Current state of health in U.S\n	Different types of stress\n	How stress contributes to chronic illness\n	How to restore health and vitality
X-ALT-DESC;FMTTYPE=text/html:<br />\n<a href="https://www.facebook.com/groups/227293554327529/" target="_blank"><span style="font-size:16px\;"><span style="font-family:arial\;">&quot\;Like&quot\; our T.W.I.N Group Page on Facebook!</span></span></a>&nbsp\;<br />\n<br />\n<span style="font-size:14px\;"><span style="font-family:arial\;"><span style="color: rgb(34\, 34\, 34)\; background-color: rgb(255\, 255\, 255)\;">Join the Twinsburg Women In Networking (T.W.I.N.) and the Hudson Chamber&#39\;s&nbsp\;</span><span style="color: rgb(51\, 51\, 51)\; background-color: rgb(255\, 255\, 255)\;">Professional Women&#39\;s Network for our September luncheon focused on </span><span style="color:#FF0000\;"><span style="background-color: rgb(255\, 255\, 255)\;"><strong>something we all have....Stress!</strong></span></span><span style="color: rgb(51\, 51\, 51)\; background-color: rgb(255\, 255\, 255)\;"> <a href="http://www.chiroforfamilies.com" target="_blank">Dr. Andrew Brady with Optimal Spine and Wellness</a> will cover the following:</span></span></span>\n<ul>\n	<li style="color: rgb(34\, 34\, 34)\; font-family: arial\, sans-serif\; font-size: 12.8px\; background-color: rgb(255\, 255\, 255)\;"><span style="font-size:14px\;"><span style="font-family:arial\;">Current state of health in U.S</span></span></li>\n	<li style="color: rgb(34\, 34\, 34)\; font-family: arial\, sans-serif\; font-size: 12.8px\; background-color: rgb(255\, 255\, 255)\;"><span style="font-size:14px\;"><span style="font-family:arial\;">Different types of stress</span></span></li>\n	<li style="color: rgb(34\, 34\, 34)\; font-family: arial\, sans-serif\; font-size: 12.8px\; background-color: rgb(255\, 255\, 255)\;"><span style="font-size:14px\;"><span style="font-family:arial\;">How stress contributes to chronic illness</span></span></li>\n	<li style="color: rgb(34\, 34\, 34)\; font-family: arial\, sans-serif\; font-size: 12.8px\; background-color: rgb(255\, 255\, 255)\;"><span style="font-size:14px\;"><span style="font-family:arial\;">How to restore health and vitality</span></span></li>\n</ul>\n
LOCATION:Blue Canyon Kitchen & Tavern 8960 Wilcox Dr. Twinsburg\, OH 44087
UID:e.2230.1765
SEQUENCE:3
DTSTAMP:20260420T191109Z
URL:https://business.twinsburgchamber.com/events/details/t-w-i-n-twinsburg-women-in-networking-september-luncheon-with-hudson-professional-women-in-business-1765
END:VEVENT

END:VCALENDAR
