BEGIN:VCALENDAR
VERSION:2.0
PRODID:-//ChamberMaster//Event Calendar 2.0//EN
METHOD:PUBLISH
X-PUBLISHED-TTL:P3D
REFRESH-INTERVAL:P3D
CALSCALE:GREGORIAN
BEGIN:VEVENT
DTSTART:20171018T120000Z
DTEND:20171018T130000Z
X-MICROSOFT-CDO-ALLDAYEVENT:FALSE
SUMMARY:T.W.I.N. (Twinsburg Women In Networking) October Monthly Meeting
DESCRIPTION:"Like" our T.W.I.N Group Page on Facebook! \n\n\n\nCome and learn about the women who make up T.W.I.N (Twinsburg Women In Networking)! Share your stories and ideas with our women in business the 3rd Wednesday of each month from 8:00am - 9:00am at different business locations each time!\n\n\n\n2017 TWIN Monthly Meeting Dates\n\n\n\nOctober Host: Sandy Meyer\, First National Bank \n\n\nTopic: \n\n"How much can I afford"? The presentation will go into detail how lenders/creditors determine how much they will lend to someone.  This is also known as Debt-to-Income ratio.  Learn how this ratio could be different than what your budget says.
X-ALT-DESC;FMTTYPE=text/html:<br />\n<a href="https://www.facebook.com/groups/227293554327529/" target="_blank"><span style="font-size:16px\;"><span style="font-family:arial\;">&quot\;Like&quot\; our T.W.I.N Group Page on Facebook!</span></span></a>&nbsp\;<br />\n<br />\n<span style="font-size:14px\;"><span style="font-family:arial\;"><span style="font-weight:bold\;language:en-US\;"><span style="color:#4D269A\;">Come and learn about the women who make up T.W.I.N (Twinsburg Women In Networking)! Share your stories and ideas with our women in business the 3rd Wednesday of each month from 8:00am - 9:00am&nbsp\;at different business locations each time!</span></span><br />\n<br />\n<a href="https://chambermaster.blob.core.windows.net/userfiles/UserFiles/chambers/2230/File/2017TWINMonthlyMeetingDatesupdated4-17-2017.pdf" target="_blank"><span style="font-size:20px\;"><span style="color:#800080\;"><strong><u>2017 TWIN Monthly Meeting Dates</u></strong></span></span></a></span></span><br />\n<br />\n<span style="color:#4B0082\;"><u><strong><span style="font-size:14px\;">October Host:</span></strong></u></span>&nbsp\;<a href="http://www.fnb-online.com" target="_blank"><span style="font-size:14px\;"><span style="font-family:arial\;">Sandy Meyer\, First National Bank</span></span></a>&nbsp\;\n<div style="clear:both\;"><br />\n<span style="font-size:14px\;"><span style="font-family:arial\;"><span style="background-color: rgb(255\, 255\, 255)\;"><span style="color:#4B0082\;"><u><strong>Topic:&nbsp\;</strong></u></span></span></span></span><br />\n<span style="color:#4B0082\;"><strong>&ldquo\;</strong></span><span style="font-size:14px\;"><span style="font-family:arial\;"><span style="color:#4B0082\;"><strong>How much can I afford&rdquo\;?</strong></span> The presentation&nbsp\;will go into detail how lenders/creditors determine how much they will lend to someone. &nbsp\;This is also known as Debt-to-Income ratio. &nbsp\;Learn how this ratio could be different than what your budget says.</span></span></div>\n
LOCATION:First National Bank 10071 Darrow Rd. Twinsburg\, OH 44087
UID:e.2230.1770
SEQUENCE:3
DTSTAMP:20260420T205108Z
URL:https://business.twinsburgchamber.com/events/details/t-w-i-n-twinsburg-women-in-networking-october-monthly-meeting-1770
END:VEVENT

END:VCALENDAR
