BEGIN:VCALENDAR
VERSION:2.0
PRODID:-//ChamberMaster//Event Calendar 2.0//EN
METHOD:PUBLISH
X-PUBLISHED-TTL:P3D
REFRESH-INTERVAL:P3D
CALSCALE:GREGORIAN
BEGIN:VEVENT
DTSTART:20161019T120000Z
DTEND:20161019T130000Z
X-MICROSOFT-CDO-ALLDAYEVENT:FALSE
SUMMARY:T.W.I.N. (Twinsburg Women In Networking) October Monthly Meeting
DESCRIPTION:"Like" our T.W.I.N Group Page on Facebook! \n\n\n\nCome and learn about the women who make up T.W.I.N (Twinsburg Women In Networking)! Share your stories and ideas with our women in business the 3rd Wednesday of each month from 8:00am - 9:00am at different business locations each time!\n\n\n\n2016 TWIN Monthly Meeting Dates\n\n\n\nOctober Topic and Discussion:\n\nPrepping for the holidays! "Creating healthy boundaries: Facing challenges as women in the workplace & home"
X-ALT-DESC;FMTTYPE=text/html:<br />\n<a href="https://www.facebook.com/groups/227293554327529/" target="_blank"><span style="font-size:16px\;"><span style="font-family:arial\;">&quot\;Like&quot\; our T.W.I.N Group Page on Facebook!</span></span></a>&nbsp\;<br />\n<br />\n<span style="font-size:14px\;"><span style="font-family:arial\;"><span style="font-weight:bold\;language:en-US\;"><span style="color:#4D269A\;">Come and learn about the women who make up T.W.I.N (Twinsburg Women In Networking)! Share your stories and ideas with our women in business the 3rd Wednesday of each month from 8:00am - 9:00am&nbsp\;at different business locations each time!</span></span><br />\n<br />\n<span style="color:#800080\;"><strong><a href="https://chambermaster.blob.core.windows.net/userfiles/UserFiles/chambers/2230/File/2016TWINMonthlyMeetingDates..pdf" target="_blank"><u>2016 TWIN Monthly Meeting Dates</u></a></strong></span></span></span><br />\n<br />\n<span style="font-size:14px\;"><span style="color:#4B0082\;"><u><strong>October Topic and Discussion:</strong></u></span><br />\n<span style="font-family:arial\;"><span style="color: rgb(34\, 34\, 34)\; background-color: rgb(255\, 255\, 255)\;">Prepping for the holidays! &quot\;Creating healthy boundaries: Facing challenges as women in the workplace &amp\; home&quot\;</span></span></span>
LOCATION:Host: Dr. Mary Malek\, Healing Space\, LLC Location: Twinsburg Public Library 10050 Ravenna Road\, Room #1 Twinsburg\, OH 44087 *Please enter from back door by book drop-off/drive-through
UID:e.2230.1666
SEQUENCE:3
DTSTAMP:20260420T002641Z
URL:https://business.twinsburgchamber.com/events/details/t-w-i-n-twinsburg-women-in-networking-october-monthly-meeting-1666
END:VEVENT

END:VCALENDAR
