BEGIN:VCALENDAR
VERSION:2.0
PRODID:-//ChamberMaster//Event Calendar 2.0//EN
METHOD:PUBLISH
X-PUBLISHED-TTL:P3D
REFRESH-INTERVAL:P3D
CALSCALE:GREGORIAN
BEGIN:VEVENT
DTSTART:20171115T130000Z
DTEND:20171115T140000Z
X-MICROSOFT-CDO-ALLDAYEVENT:FALSE
SUMMARY:T.W.I.N. (Twinsburg Women In Networking) November Monthly Meeting
DESCRIPTION:Come and learn about the women who make up T.W.I.N (Twinsburg Women In Networking)! Share your stories and ideas with our women in business the 3rd Wednesday of each month from 8:00am - 9:00am at different business locations each time!\n\n\n\nNovember Speaker & Topic: Karen Aker\, Mary Kay Cosmetics \n\n\n\nKaren will share today's innovative hot trends in skin care and introduce you to a beauty industry first\, available only from Mary Kay.\n\n\n\n*November will be our last meeting for the year. See you back in 2018!
X-ALT-DESC;FMTTYPE=text/html:<br />\n<span style="font-size:14px\;"><span style="font-family:arial\;"><span style="font-weight:bold\;language:en-US\;"><span style="color:#4D269A\;">Come and learn about the women who make up T.W.I.N (Twinsburg Women In Networking)! Share your stories and ideas with our women in business the 3rd Wednesday of each month from 8:00am - 9:00am&nbsp\;at different business locations each time!</span></span><br />\n<br />\n<b><span style="color:#800080\;"><u>November Speaker &amp\; Topic:</u></span> <a href="http://www.marykay.com/kaker">Karen Aker\, Mary Kay Cosmetics</a>&nbsp\;</b></span></span><br />\n<br />\n<span style="font-size:14px\;"><span style="font-family:arial\;"><span style="color: rgb(34\, 34\, 34)\; background-color: rgb(255\, 255\, 255)\;">Karen will share today&#39\;s innovative hot trends in skin care and introduce you to a beauty industry first\,&nbsp\;</span><span style="background-color: rgb(255\, 255\, 255)\;"><font color="#222222">available&nbsp\;only from Mary Kay.</font></span></span></span><br />\n<br />\n<em><span style="font-size:14px\;"><span style="font-family:arial\;"><span style="color:#FF0000\;">*November will be our last meeting for the year. See you back in 2018!</span></span></span></em>
LOCATION:Mary Kay Studio 4301 Darrow Rd.\, Suite 3250 Stow\, OH 44224
UID:e.2230.1778
SEQUENCE:3
DTSTAMP:20260420T224054Z
URL:https://business.twinsburgchamber.com/events/details/t-w-i-n-twinsburg-women-in-networking-november-monthly-meeting-1778
END:VEVENT

END:VCALENDAR
