BEGIN:VCALENDAR
VERSION:2.0
PRODID:-//ChamberMaster//Event Calendar 2.0//EN
METHOD:PUBLISH
X-PUBLISHED-TTL:P3D
REFRESH-INTERVAL:P3D
CALSCALE:GREGORIAN
BEGIN:VEVENT
DTSTART:20161116T130000Z
DTEND:20161116T140000Z
X-MICROSOFT-CDO-ALLDAYEVENT:FALSE
SUMMARY:T.W.I.N. (Twinsburg Women In Networking) November Monthly Meeting
DESCRIPTION:"Like" our T.W.I.N Group Page on Facebook! \n\n\n\nCome and learn about the women who make up T.W.I.N (Twinsburg Women In Networking)! Share your stories and ideas with our women in business the 3rd Wednesday of each month from 8:00am - 9:00am at different business locations each time!\n\n\n\n2016 TWIN Monthly Meeting Dates\n\n\n\nNovember Topic: "Understanding Credit"\n\n\n\nUnderstanding Credit will cover things like How your score is determined\, How to maintain a good score\, How to improve your score\, and How to rebuild your credit
X-ALT-DESC;FMTTYPE=text/html:<br />\n<a href="https://www.facebook.com/groups/227293554327529/" target="_blank"><span style="font-size:16px\;"><span style="font-family:arial\;">&quot\;Like&quot\; our T.W.I.N Group Page on Facebook!</span></span></a>&nbsp\;<br />\n<br />\n<span style="font-size:14px\;"><span style="font-family:arial\;"><span style="font-weight:bold\;language:en-US\;"><span style="color:#4D269A\;">Come and learn about the women who make up T.W.I.N (Twinsburg Women In Networking)! Share your stories and ideas with our women in business the 3rd Wednesday of each month from 8:00am - 9:00am&nbsp\;at different business locations each time!</span></span><br />\n<br />\n<span style="color:#800080\;"><strong><u><a href="https://chambermaster.blob.core.windows.net/userfiles/UserFiles/chambers/2230/File/2016TWINMonthlyMeetingDates..pdf" target="_blank">2016 TWIN Monthly Meeting Dates</a><br />\n<br />\nNovember Topic: &quot\;Understanding Credit&quot\;</u></strong></span></span></span><br />\n<br />\n<span style="color:#333333\;"><strong><span style="font-family:arial\;"><span style="font-size: 14.6667px\; background-color: rgb(255\, 255\, 255)\;">Understanding Credit will cover things like How your score is determined\, How to maintain a good score\, How to improve your score\, and How to rebuild your credit</span></span></strong></span>
LOCATION:Host: Sandy Meyer\, First National Bank Location: First National Bank 10071 Darrow Road Twinsburg\, OH 44087
UID:e.2230.1674
SEQUENCE:3
DTSTAMP:20260420T020902Z
URL:https://business.twinsburgchamber.com/events/details/t-w-i-n-twinsburg-women-in-networking-november-monthly-meeting-1674
END:VEVENT

END:VCALENDAR
