BEGIN:VCALENDAR
VERSION:2.0
PRODID:-//ChamberMaster//Event Calendar 2.0//EN
METHOD:PUBLISH
X-PUBLISHED-TTL:P3D
REFRESH-INTERVAL:P3D
CALSCALE:GREGORIAN
BEGIN:VEVENT
DTSTART:20170517T120000Z
DTEND:20170517T130000Z
X-MICROSOFT-CDO-ALLDAYEVENT:FALSE
SUMMARY:T.W.I.N. (Twinsburg Women In Networking) May Monthly Meeting
DESCRIPTION:"Like" our T.W.I.N Group Page on Facebook! \n\n\n\nCome and learn about the women who make up T.W.I.N (Twinsburg Women In Networking)! Share your stories and ideas with our women in business the 3rd Wednesday of each month from 8:00am - 9:00am at different business locations each time!\n\n\n\n2017 TWIN Monthly Meeting Dates\n\n\n\nMay Hosts: Chiromax\, Dr. Shelby\n\n\n\nTopic: Chiromax\, Get In-Line for Health & Wellness\nLearn how to get healthy\, maintain your health and wellness\, and stay active in the work place.
X-ALT-DESC;FMTTYPE=text/html:<br />\n<a href="https://www.facebook.com/groups/227293554327529/" target="_blank"><span style="font-size:16px\;"><span style="font-family:arial\;">&quot\;Like&quot\; our T.W.I.N Group Page on Facebook!</span></span></a>&nbsp\;<br />\n<br />\n<span style="font-size:14px\;"><span style="font-family:arial\;"><span style="font-weight:bold\;language:en-US\;"><span style="color:#4D269A\;">Come and learn about the women who make up T.W.I.N (Twinsburg Women In Networking)! Share your stories and ideas with our women in business the 3rd Wednesday of each month from 8:00am - 9:00am&nbsp\;at different business locations each time!</span></span><br />\n<br />\n<a href="https://chambermaster.blob.core.windows.net/userfiles/UserFiles/chambers/2230/File/2017TWINMonthlyMeetingDatesupdated4-17-2017.pdf" target="_blank"><span style="font-size:20px\;"><span style="color:#800080\;"><strong><u>2017 TWIN Monthly Meeting Dates</u></strong></span></span></a></span></span><br />\n<br />\n<span style="color:#4B0082\;"><u><strong><span style="font-size:14px\;">May Hosts:</span></strong></u></span>&nbsp\;<font color="#7030a0"><span style="font-size: 14px\;"><b><a href="http://chiromaxtwinsburg.com/" target="_blank">Chiromax\, Dr. Shelby</a><br />\n<br />\nTopic:&nbsp\;</b></span></font><span style="color:#4B0082\;"><span style="font-size:14px\;"><span style="font-family:arial\;"><strong>Chiromax\, Get In-Line for Health &amp\; Wellness</strong></span></span></span>\n<div style="color: rgb(34\, 34\, 34)\; font-family: arial\, sans-serif\; font-size: 12.8px\; background-color: rgb(255\, 255\, 255)\;"><span style="font-size:14px\;"><span style="font-family:arial\;">Learn how to get healthy\, maintain your health and wellness\, and stay active in the work place.</span></span></div>\n\n<div style="clear:both\;">&nbsp\;</div>\n
LOCATION:Chiromax 8900 Darrow Rd. H104 Twinsburg\, OH 44087
UID:e.2230.1746
SEQUENCE:3
DTSTAMP:20260420T123916Z
URL:https://business.twinsburgchamber.com/events/details/t-w-i-n-twinsburg-women-in-networking-may-monthly-meeting-1746
END:VEVENT

END:VCALENDAR
