BEGIN:VCALENDAR
VERSION:2.0
PRODID:-//ChamberMaster//Event Calendar 2.0//EN
METHOD:PUBLISH
X-PUBLISHED-TTL:P3D
REFRESH-INTERVAL:P3D
CALSCALE:GREGORIAN
BEGIN:VEVENT
DTSTART:20170322T120000Z
DTEND:20170322T130000Z
X-MICROSOFT-CDO-ALLDAYEVENT:FALSE
SUMMARY:T.W.I.N. (Twinsburg Women In Networking) March Monthly Meeting
DESCRIPTION:**March Meeting Rescheduled (due to weather) \n\n\n\nNew Date: Wednesday\, March 22 at 8:00am at VMS\n\n\n\n"Like" our T.W.I.N Group Page on Facebook! \n\n\n\nCome and learn about the women who make up T.W.I.N (Twinsburg Women In Networking)! Share your stories and ideas with our women in business the 3rd Wednesday of each month from 8:00am - 9:00am at different business locations each time!\n\n\n\n2017 TWIN Monthly Meeting Dates\n\n\n\nMarch Hosts: Sheila Davis & Michelle Willmott\, Visual Marking Systems \n \nTopic: Be a "sales savvy" business person in today's connected world!  Sales people are using LinkedIn as a primary source of new leads. We'll share with you how to use LinkedIn to identify prospects for your company. Learn simple tips on how LinkedIn can make your prospecting faster\, smoother and ultimately\, more profitable.\n\n \n\n*We'll also be conducting tours of the VMS manufacturing facility after the meeting (Approximately 30 minutes - Appropriate shoes required).
X-ALT-DESC;FMTTYPE=text/html:<br />\n<span style="font-size:16px\;"><span style="color:#FF0000\;"><strong>**March Meeting Rescheduled (due to weather)&nbsp\;<br />\n<br />\n<u>New Date: Wednesday\, March 22 at 8:00am at VMS</u></strong></span></span><br />\n<br />\n<a href="https://www.facebook.com/groups/227293554327529/" target="_blank"><span style="font-size:16px\;"><span style="font-family:arial\;">&quot\;Like&quot\; our T.W.I.N Group Page on Facebook!</span></span></a>&nbsp\;<br />\n<br />\n<span style="font-size:14px\;"><span style="font-family:arial\;"><span style="font-weight:bold\;language:en-US\;"><span style="color:#4D269A\;">Come and learn about the women who make up T.W.I.N (Twinsburg Women In Networking)! Share your stories and ideas with our women in business the 3rd Wednesday of each month from 8:00am - 9:00am&nbsp\;at different business locations each time!</span></span><br />\n<br />\n<span style="font-size:20px\;"><a href="https://chambermaster.blob.core.windows.net/userfiles/UserFiles/chambers/2230/File/2017TWINMonthlyMeetingDates-updated1-20-2017.pdf" target="_blank"><span style="color:#800080\;"><strong><u>2017 TWIN Monthly Meeting Dates</u></strong></span></a></span></span></span><br />\n<br />\n<span style="color:#4B0082\;"><u><strong><span style="font-size:14px\;">March Hosts:</span></strong></u></span> <span style="font-size:14px\;"><font color="#7030a0"><b>Sheila Davis &amp\; Michelle Willmott\, <a href="https://www.vmsinc.com/" target="_blank">Visual Marking Systems&nbsp\;</a></b></font></span>\n<div style="clear:both\;">&nbsp\;</div>\n<font color="#4b0082"><span style="font-size:14px\;"><span style="font-family:arial\;"><strong><u>Topic:</u>&nbsp\;</strong></span></span></font><span style="font-size:14px\;"><span style="font-family:arial\;"><span style="color:#4B0082\;"><strong>Be a &ldquo\;sales savvy&rdquo\; </strong></span>business person in today&rsquo\;s connected world!&nbsp\;<span style="background-image:initial\;background-position:initial\;background-size:initial\;background-repeat:initial\;background-attachment:initial\;background-origin:initial\;background-clip:initial\;">&nbsp\;Sales people are using LinkedIn as a primary source of new leads.&nbsp\;</span>We&rsquo\;ll share with you how to use LinkedIn to identify prospects for your company. Learn simple tips on how&nbsp\;<span style="background-image:initial\;background-position:initial\;background-size:initial\;background-repeat:initial\;background-attachment:initial\;background-origin:initial\;background-clip:initial\;">LinkedIn can make your prospecting faster\, smoother and ultimately\, more profitable.</span><br />\n&nbsp\;<br />\n*We&rsquo\;ll also be conducting tours of the VMS manufacturing facility after the meeting (Approximately 30 minutes - Appropriate shoes required).</span></span>
LOCATION:Visual Marking Systems 2097 East Aurora Road Twinsburg\, OH 44087
UID:e.2230.1731
SEQUENCE:3
DTSTAMP:20260420T091717Z
URL:https://business.twinsburgchamber.com/events/details/t-w-i-n-twinsburg-women-in-networking-march-monthly-meeting-1731
END:VEVENT

END:VCALENDAR
