BEGIN:VCALENDAR
VERSION:2.0
PRODID:-//ChamberMaster//Event Calendar 2.0//EN
METHOD:PUBLISH
X-PUBLISHED-TTL:P3D
REFRESH-INTERVAL:P3D
CALSCALE:GREGORIAN
BEGIN:VEVENT
DTSTART:20180321T120000Z
DTEND:20180321T130000Z
X-MICROSOFT-CDO-ALLDAYEVENT:FALSE
SUMMARY:T.W.I.N. (Twinsburg Women In Networking) March Meeting-Elder Care Solutions for the Sandwich Generation
DESCRIPTION:Come and learn about the women who make up T.W.I.N (Twinsburg Women In Networking)! Share your stories and ideas with our women in business six times a year from 8:00 am - 9:00 am at different business locations each time!\n\n\n\nMarch Speaker & Topic: Rachel Kabb Effron "Elder Care Solutions for the Sandwich Generation"\n\n\n\nRachel will share thing's to consider when making important decisions to ensure your loved ones are cared for and protected.
X-ALT-DESC;FMTTYPE=text/html:<br />\n<span style="font-size:14px\;"><span style="font-family:arial\;"><span style="font-weight:bold\;language:en-US\;"><span style="color:#4D269A\;">Come and learn about the women who make up T.W.I.N (Twinsburg Women In Networking)! Share your stories and ideas with our women in business six times a year from 8:00 am - 9:00 am&nbsp\;at different business locations each time!</span></span><br />\n<br />\n<b><span style="color:#800080\;"><u>March Speaker &amp\; Topic:</u></span>&nbsp\;<a href="https://www.kabblaw.com/">Rachel Kabb&nbsp\;Effron</a>&nbsp\;&quot\;Elder Care Solutions for the Sandwich Generation&quot\;</b></span></span><br />\n<br />\n<span style="font-size:14px\;"><span style="font-family:arial\;"><span style="color: rgb(34\, 34\, 34)\; background-color: rgb(255\, 255\, 255)\;">Rachel will share thing&#39\;s to consider when making important decisions to ensure your loved ones are cared for and protected.&nbsp\; </span></span></span><br />\n<br />\n&nbsp\;
LOCATION:First National Bank 10071 Darrow Rd Twinsburg\, OH 44087
UID:e.2230.1786
SEQUENCE:3
DTSTAMP:20260421T054743Z
URL:https://business.twinsburgchamber.com/events/details/t-w-i-n-twinsburg-women-in-networking-march-meeting-elder-care-solutions-for-the-sandwich-generation-1786
END:VEVENT

END:VCALENDAR
