BEGIN:VCALENDAR
VERSION:2.0
PRODID:-//ChamberMaster//Event Calendar 2.0//EN
METHOD:PUBLISH
X-PUBLISHED-TTL:P3D
REFRESH-INTERVAL:P3D
CALSCALE:GREGORIAN
BEGIN:VEVENT
DTSTART:20170621T120000Z
DTEND:20170621T130000Z
X-MICROSOFT-CDO-ALLDAYEVENT:FALSE
SUMMARY:T.W.I.N. (Twinsburg Women In Networking) June Monthly Meeting
DESCRIPTION:"Like" our T.W.I.N Group Page on Facebook! \n\n\n\nCome and learn about the women who make up T.W.I.N (Twinsburg Women In Networking)! Share your stories and ideas with our women in business the 3rd Wednesday of each month from 8:00am - 9:00am at different business locations each time!\n\n\n\n2017 TWIN Monthly Meeting Dates\n\n\n\nJune Host: Maplewood at Twinsburg \n\n\nTopic: Learn the basics signs of Dementia\n\n	What is Dementia?\n	Types of Dementia\n	Normal Aging vs. Memory Loss/Alzheimer's
X-ALT-DESC;FMTTYPE=text/html:<br />\n<a href="https://www.facebook.com/groups/227293554327529/" target="_blank"><span style="font-size:16px\;"><span style="font-family:arial\;">&quot\;Like&quot\; our T.W.I.N Group Page on Facebook!</span></span></a>&nbsp\;<br />\n<br />\n<span style="font-size:14px\;"><span style="font-family:arial\;"><span style="font-weight:bold\;language:en-US\;"><span style="color:#4D269A\;">Come and learn about the women who make up T.W.I.N (Twinsburg Women In Networking)! Share your stories and ideas with our women in business the 3rd Wednesday of each month from 8:00am - 9:00am&nbsp\;at different business locations each time!</span></span><br />\n<br />\n<a href="https://chambermaster.blob.core.windows.net/userfiles/UserFiles/chambers/2230/File/2017TWINMonthlyMeetingDatesupdated4-17-2017.pdf" target="_blank"><span style="font-size:20px\;"><span style="color:#800080\;"><strong><u>2017 TWIN Monthly Meeting Dates</u></strong></span></span></a></span></span><br />\n<br />\n<span style="color:#4B0082\;"><u><strong><span style="font-size:14px\;">June Host:</span></strong></u></span>&nbsp\;<a href="http://www.maplewoodseniorliving.com/senior-living/oh/twinsburg/twinsburg/" target="_blank">Maplewood at Twinsburg</a>&nbsp\;\n<div style="clear:both\;"><br />\n<span style="font-size:14px\;"><span style="font-family:arial\;"><span style="background-color: rgb(255\, 255\, 255)\;"><span style="color:#4B0082\;"><u><strong>Topic:</strong></u></span> Learn the basics signs of Dementia</span></span></span>\n<ul>\n	<li class="m_7159320388078087112MsoListParagraph" style="margin: 0in 0in 0.0001pt 0.5in\; font-size: 12pt\; font-family: &quot\;Times New Roman&quot\;\, serif\; color: rgb(34\, 34\, 34)\; background-color: rgb(255\, 255\, 255)\;"><span style="font-size:14px\;"><span style="font-family:arial\;">What is Dementia?</span></span></li>\n	<li class="m_7159320388078087112MsoListParagraph" style="margin: 0in 0in 0.0001pt 0.5in\; font-size: 12pt\; font-family: &quot\;Times New Roman&quot\;\, serif\; color: rgb(34\, 34\, 34)\; background-color: rgb(255\, 255\, 255)\;"><span style="font-size:14px\;"><span style="font-family:arial\;">Types of Dementia</span></span></li>\n	<li class="m_7159320388078087112MsoListParagraph" style="margin: 0in 0in 0.0001pt 0.5in\; font-size: 12pt\; font-family: &quot\;Times New Roman&quot\;\, serif\; color: rgb(34\, 34\, 34)\; background-color: rgb(255\, 255\, 255)\;"><span style="font-size:14px\;"><span style="font-family:arial\;">Normal Aging vs. Memory Loss/Alzheimer&rsquo\;s</span></span></li>\n</ul>\n</div>\n
LOCATION:Maplewood at Twinsburg 2463 Sussex Blvd. Twinsburg\, OH 44087
UID:e.2230.1753
SEQUENCE:3
DTSTAMP:20260420T142148Z
URL:https://business.twinsburgchamber.com/events/details/t-w-i-n-twinsburg-women-in-networking-june-monthly-meeting-1753
END:VEVENT

END:VCALENDAR
