BEGIN:VCALENDAR
VERSION:2.0
PRODID:-//ChamberMaster//Event Calendar 2.0//EN
METHOD:PUBLISH
X-PUBLISHED-TTL:P3D
REFRESH-INTERVAL:P3D
CALSCALE:GREGORIAN
BEGIN:VEVENT
DTSTART:20160615T120000Z
DTEND:20160615T130000Z
X-MICROSOFT-CDO-ALLDAYEVENT:FALSE
SUMMARY:T.W.I.N. (Twinsburg Women In Networking) June Monthly Meeting
DESCRIPTION:"Like" our T.W.I.N Group Page on Facebook! \n\n\n\nCome and learn about the women who make up T.W.I.N (Twinsburg Women In Networking)! Share your stories and ideas with our women in business the 3rd Wednesday of each month from 8:00am - 9:00am at different business locations each time!\n\n\n\n2016 TWIN Monthly Meeting Dates\n\n\n\nJune Topic:\n\n\n\n"How to give your best 30 second pitch" Learn great ideas and practice how to give your best "elevator speech". This will help you be prepared for our July Networking Palooza 3.0!
X-ALT-DESC;FMTTYPE=text/html:<br />\n<a href="https://www.facebook.com/groups/227293554327529/" target="_blank"><span style="font-size:16px\;"><span style="font-family:arial\;">&quot\;Like&quot\; our T.W.I.N Group Page on Facebook!</span></span></a>&nbsp\;<br />\n<br />\n<span style="font-size:14px\;"><span style="font-family:arial\;"><span style="font-weight:bold\;language:en-US\;"><span style="color:#4D269A\;">Come and learn about the women who make up T.W.I.N (Twinsburg Women In Networking)! Share your stories and ideas with our women in business the 3rd Wednesday of each month from 8:00am - 9:00am&nbsp\;at different business locations each time!</span></span><br />\n<br />\n<span style="color:#800080\;"><strong><a href="https://chambermaster.blob.core.windows.net/userfiles/UserFiles/chambers/2230/File/2016TWINMonthlyMeetingDates..pdf" target="_blank"><u>2016 TWIN Monthly Meeting Dates</u></a></strong></span></span></span><br />\n<br />\n<u><span style="font-size:14px\;"><span style="color:#4B0082\;"><strong>June Topic:</strong></span></span></u><br />\n<br />\n<span style="font-size:14px\;"><span style="color:#4B0082\;"><strong>&quot\;How to give your best 30 second pitch&quot\;&nbsp\;</strong><span style="font-family:arial\;"><span style="background-color: rgb(255\, 255\, 255)\;">Learn great ideas and practice how to give your best &quot\;elevator speech&quot\;. This will help you be&nbsp\;prepared&nbsp\;for our&nbsp\;July&nbsp\;Networking</span><span style="background-color: rgb(255\, 255\, 255)\;">&nbsp\;Palooza 3.0!</span></span></span></span><br />\n<br />\n<br />\n&nbsp\;
LOCATION:Greenbridge Teahouse & Cafe 9036 Church Street Twinsburg\, OH 44087
UID:e.2230.493
SEQUENCE:3
DTSTAMP:20260419T172738Z
URL:https://business.twinsburgchamber.com/events/details/t-w-i-n-twinsburg-women-in-networking-june-monthly-meeting-06-15-2016-493
END:VEVENT

END:VCALENDAR
