BEGIN:VCALENDAR
VERSION:2.0
PRODID:-//ChamberMaster//Event Calendar 2.0//EN
METHOD:PUBLISH
X-PUBLISHED-TTL:P3D
REFRESH-INTERVAL:P3D
CALSCALE:GREGORIAN
BEGIN:VEVENT
DTSTART:20161221T130000Z
DTEND:20161221T140000Z
X-MICROSOFT-CDO-ALLDAYEVENT:FALSE
SUMMARY:T.W.I.N. (Twinsburg Women In Networking) December Monthly Meeting
DESCRIPTION:"Like" our T.W.I.N Group Page on Facebook! \n\n\n\nCome and learn about the women who make up T.W.I.N (Twinsburg Women In Networking)! Share your stories and ideas with our women in business the 3rd Wednesday of each month from 8:00am - 9:00am at different business locations each time!\n\n\n\n2016 TWIN Monthly Meeting Dates\n\n\n\nDecember Host: Judy Caine with Prosperity N.E.O.\n\n\n\nTopic: "Investing Your Way" We'll learn about the challenges women face in order to be financially successful\, and how to overcome these challenges.  But we have reason to celebrate too!  Come and learn how we are different than men who invest and how to benefit from the differences!
X-ALT-DESC;FMTTYPE=text/html:<br />\n<a href="https://www.facebook.com/groups/227293554327529/" target="_blank"><span style="font-size:16px\;"><span style="font-family:arial\;">&quot\;Like&quot\; our T.W.I.N Group Page on Facebook!</span></span></a>&nbsp\;<br />\n<br />\n<span style="font-size:14px\;"><span style="font-family:arial\;"><span style="font-weight:bold\;language:en-US\;"><span style="color:#4D269A\;">Come and learn about the women who make up T.W.I.N (Twinsburg Women In Networking)! Share your stories and ideas with our women in business the 3rd Wednesday of each month from 8:00am - 9:00am&nbsp\;at different business locations each time!</span></span><br />\n<br />\n<span style="color:#800080\;"><strong><a href="https://chambermaster.blob.core.windows.net/userfiles/UserFiles/chambers/2230/File/2016TWINMonthlyMeetingDates..pdf" target="_blank"><u>2016 TWIN Monthly Meeting Dates</u></a></strong></span></span></span><br />\n<br />\n<font color="#4b0082"><span style="font-size:14px\;"><b><u>December Host:</u></b>&nbsp\;Judy Caine with <a href="http://www.prosperityneo.com/" target="_blank">Prosperity N.E.O.</a><br />\n<br />\n<span style="font-family:arial\;"><strong><u>Topic:</u> </strong></span></span></font><span style="color:#4B0082\;"><span style="font-size:14px\;"><span style="font-family:arial\;"><strong>&quot\;Investing Your Way&quot\;</strong></span></span></span><span style="color:#800080\;"><span style="font-size:14px\;"><span style="font-family:arial\;"><strong>&nbsp\;</strong></span></span></span><span style="color:#333333\;"><span style="font-size:14px\;"><span style="font-family:arial\;">We&#39\;ll learn about the challenges women face in order to be financially successful\, and how to&nbsp\;overcome these challenges.&nbsp\; But we have reason to celebrate too!&nbsp\; Come and learn how we&nbsp\;are different than men who invest and how to benefit from the differences!</span></span></span><br />\n&nbsp\;
LOCATION:Host: Judy Caine\, Prosperity N.E.O. Location: Twinsburg Public Library 10050 Ravenna Road\, Room #1 Twinsburg\, OH 44087 *Please enter from back door by book drop-off/drive-through
UID:e.2230.1678
SEQUENCE:3
DTSTAMP:20260420T040329Z
URL:https://business.twinsburgchamber.com/events/details/t-w-i-n-twinsburg-women-in-networking-december-monthly-meeting-1678
END:VEVENT

END:VCALENDAR
