BEGIN:VCALENDAR
VERSION:2.0
PRODID:-//ChamberMaster//Event Calendar 2.0//EN
METHOD:PUBLISH
X-PUBLISHED-TTL:P3D
REFRESH-INTERVAL:P3D
CALSCALE:GREGORIAN
BEGIN:VEVENT
DTSTART:20170823T120000Z
DTEND:20170823T130000Z
X-MICROSOFT-CDO-ALLDAYEVENT:FALSE
SUMMARY:T.W.I.N. (Twinsburg Women In Networking) August Monthly Meeting
DESCRIPTION:"Like" our T.W.I.N Group Page on Facebook! \n\n\n\nCome and learn about the women who make up T.W.I.N (Twinsburg Women In Networking)! Share your stories and ideas with our women in business the 3rd Wednesday of each month from 8:00am - 9:00am at different business locations each time!\n\n\n\n2017 TWIN Monthly Meeting Dates\n\n\n\nAugust Host: Tara Krol\, MCC\, Inc.\n\n\nTopic: Basics of Medicare \n\n\n	Who is eligible?\n	How do you sign up for Medicare? \n	What are the Parts of Medicare? \n	What is a Medicare Supplement Plan?
X-ALT-DESC;FMTTYPE=text/html:<br />\n<a href="https://www.facebook.com/groups/227293554327529/" target="_blank"><span style="font-size:16px\;"><span style="font-family:arial\;">&quot\;Like&quot\; our T.W.I.N Group Page on Facebook!</span></span></a>&nbsp\;<br />\n<br />\n<span style="font-size:14px\;"><span style="font-family:arial\;"><span style="font-weight:bold\;language:en-US\;"><span style="color:#4D269A\;">Come and learn about the women who make up T.W.I.N (Twinsburg Women In Networking)! Share your stories and ideas with our women in business the 3rd Wednesday of each month from 8:00am - 9:00am&nbsp\;at different business locations each time!</span></span><br />\n<br />\n<a href="https://chambermaster.blob.core.windows.net/userfiles/UserFiles/chambers/2230/File/2017TWINMonthlyMeetingDatesupdated4-17-2017.pdf" target="_blank"><span style="font-size:20px\;"><span style="color:#800080\;"><strong><u>2017 TWIN Monthly Meeting Dates</u></strong></span></span></a></span></span><br />\n<br />\n<span style="color:#4B0082\;"><u><strong><span style="font-size:14px\;">August Host:</span></strong></u></span>&nbsp\;<span style="font-size:14px\;"><a href="https://www.mccinc.biz/">Tara Krol\, MCC\, Inc</a>.</span>\n<div style="clear:both\;"><br />\n<span style="font-size:14px\;"><span style="font-family:arial\;"><span style="background-color: rgb(255\, 255\, 255)\;"><span style="color:#4B0082\;"><u><strong>Topic:</strong></u></span>&nbsp\;</span></span><span style="color: rgb(34\, 34\, 34)\; font-family: Arial\; background-color: rgb(255\, 255\, 255)\;">Basics of Medicare </span></span></div>\n\n<ul>\n	<li style="clear: both\;"><span style="font-size:14px\;"><span style="color: rgb(34\, 34\, 34)\; font-family: Arial\; background-color: rgb(255\, 255\, 255)\;">Who is eligible?</span></span></li>\n	<li style="clear: both\;"><span style="font-size:14px\;"><span style="color: rgb(34\, 34\, 34)\; font-family: Arial\; background-color: rgb(255\, 255\, 255)\;">How do you sign up for Medicare? </span></span></li>\n	<li style="clear: both\;"><span style="font-size:14px\;"><span style="color: rgb(34\, 34\, 34)\; font-family: Arial\; background-color: rgb(255\, 255\, 255)\;">What are the Parts of Medicare? </span></span></li>\n	<li style="clear: both\;"><span style="font-size:14px\;"><span style="color: rgb(34\, 34\, 34)\; font-family: Arial\; background-color: rgb(255\, 255\, 255)\;">What is a Medicare Supplement Plan?</span></span></li>\n</ul>\n
LOCATION:Twinsburg Public Library Room # 1 10050 Ravenna Rd Twinsburg\, OH 44087
UID:e.2230.1760
SEQUENCE:3
DTSTAMP:20260420T191109Z
URL:https://business.twinsburgchamber.com/events/details/t-w-i-n-twinsburg-women-in-networking-august-monthly-meeting-1760
END:VEVENT

END:VCALENDAR
