BEGIN:VCALENDAR
VERSION:2.0
PRODID:-//ChamberMaster//Event Calendar 2.0//EN
METHOD:PUBLISH
X-PUBLISHED-TTL:P3D
REFRESH-INTERVAL:P3D
CALSCALE:GREGORIAN
BEGIN:VEVENT
DTSTART:20160817T120000Z
DTEND:20160817T130000Z
X-MICROSOFT-CDO-ALLDAYEVENT:FALSE
SUMMARY:T.W.I.N. (Twinsburg Women In Networking) August Monthly Meeting
DESCRIPTION:Come and learn about the women who make up T.W.I.N (Twinsburg Women In Networking)! Share your stories and ideas with our women in business the 3rd Wednesday of each month from 8:00am - 9:00am at different business locations each time!\n\n\n\n2016 TWIN Monthly Meeting Dates
X-ALT-DESC;FMTTYPE=text/html:<br />\n<span style="font-size:14px\;"><span style="font-family:arial\;"><span style="font-weight:bold\;language:en-US\;"><span style="color:#4D269A\;">Come and learn about the women who make up T.W.I.N (Twinsburg Women In Networking)! Share your stories and ideas with our women in business the 3rd Wednesday of each month from 8:00am - 9:00am&nbsp\;at different business locations each time!</span></span><br />\n<br />\n<span style="color:#800080\;"><strong><a href="https://chambermaster.blob.core.windows.net/userfiles/UserFiles/chambers/2230/File/2016TWINMonthlyMeetingDates..pdf" target="_blank"><u>2016 TWIN Monthly Meeting Dates</u></a></strong></span></span></span><br />\n<br />\n<br />\n<br />\n&nbsp\;
LOCATION:Mary Kay Studio 4301 Darrow Rd.\, Suite 3250 Stow\, OH 44224
UID:e.2230.642
SEQUENCE:3
DTSTAMP:20260419T204616Z
URL:https://business.twinsburgchamber.com/events/details/t-w-i-n-twinsburg-women-in-networking-august-monthly-meeting-08-17-2016-642
END:VEVENT

END:VCALENDAR
