BEGIN:VCALENDAR
VERSION:2.0
PRODID:-//ChamberMaster//Event Calendar 2.0//EN
METHOD:PUBLISH
X-PUBLISHED-TTL:P3D
REFRESH-INTERVAL:P3D
CALSCALE:GREGORIAN
BEGIN:VEVENT
DTSTART:20170419T120000Z
DTEND:20170419T130000Z
X-MICROSOFT-CDO-ALLDAYEVENT:FALSE
SUMMARY:T.W.I.N. (Twinsburg Women In Networking) April Monthly Meeting
DESCRIPTION:"Like" our T.W.I.N Group Page on Facebook! \n\n\n\nCome and learn about the women who make up T.W.I.N (Twinsburg Women In Networking)! Share your stories and ideas with our women in business the 3rd Wednesday of each month from 8:00am - 9:00am at different business locations each time!\n\n\n\n2017 TWIN Monthly Meeting Dates\n\n\n\nMarch Hosts: Dr. Gen Orthodontics \n \nTopic: Live Smiling! Contemporary options to create your perfect smile!
X-ALT-DESC;FMTTYPE=text/html:<br />\n<a href="https://www.facebook.com/groups/227293554327529/" target="_blank"><span style="font-size:16px\;"><span style="font-family:arial\;">&quot\;Like&quot\; our T.W.I.N Group Page on Facebook!</span></span></a>&nbsp\;<br />\n<br />\n<span style="font-size:14px\;"><span style="font-family:arial\;"><span style="font-weight:bold\;language:en-US\;"><span style="color:#4D269A\;">Come and learn about the women who make up T.W.I.N (Twinsburg Women In Networking)! Share your stories and ideas with our women in business the 3rd Wednesday of each month from 8:00am - 9:00am&nbsp\;at different business locations each time!</span></span><br />\n<br />\n<a href="https://chambermaster.blob.core.windows.net/userfiles/UserFiles/chambers/2230/File/2017TWINMonthlyMeetingDatesupdated4-17-2017.pdf" target="_blank"><span style="font-size:20px\;"><span style="color:#800080\;"><strong><u>2017 TWIN Monthly Meeting Dates</u></strong></span></span></a></span></span><br />\n<br />\n<span style="color:#4B0082\;"><u><strong><span style="font-size:14px\;">March Hosts:</span></strong></u></span>&nbsp\;<a href="http://www.brace4success.com" target="_blank"><font color="#7030a0"><span style="font-size: 14px\;"><b>Dr. Gen Orthodontics&nbsp\;</b></span></font></a>\n<div style="clear:both\;">&nbsp\;</div>\n<font color="#4b0082"><span style="font-size:14px\;"><span style="font-family:arial\;"><strong><u>Topic:</u>&nbsp\;</strong></span></span></font><span style="font-size:14px\;">Live Smiling!&nbsp\;Contemporary options to create your perfect smile!</span>
LOCATION:Dr. Gen Orthodontics 9964 Vail Dr #2 Twinsburg\, OH 44087
UID:e.2230.1738
SEQUENCE:3
DTSTAMP:20260420T110419Z
URL:https://business.twinsburgchamber.com/events/details/t-w-i-n-twinsburg-women-in-networking-april-monthly-meeting-1738
END:VEVENT

END:VCALENDAR
