BEGIN:VCALENDAR
VERSION:2.0
PRODID:-//ChamberMaster//Event Calendar 2.0//EN
METHOD:PUBLISH
X-PUBLISHED-TTL:P3D
REFRESH-INTERVAL:P3D
CALSCALE:GREGORIAN
BEGIN:VEVENT
DTSTART:20230221T163000Z
DTEND:20230221T173000Z
X-MICROSOFT-CDO-ALLDAYEVENT:FALSE
SUMMARY:T.W.I.N. Networking Luncheon
DESCRIPTION:T.W.I.N. Networking Luncheon\n\nJoin the Twinsburg Women in Networking group for an hour of lunch and connections!
X-ALT-DESC;FMTTYPE=text/html:T.W.I.N. Networking Luncheon<br />\nJoin the Twinsburg Women in Networking group for an hour of lunch and connections!
LOCATION:Mavis Winkle's Irish Pub 8870 Darrow Road Twinsburg\, OH 44087
UID:e.2230.3218
SEQUENCE:3
DTSTAMP:20260423T145632Z
URL:https://business.twinsburgchamber.com/events/details/t-w-i-n-networking-luncheon-3218
END:VEVENT

END:VCALENDAR
