BEGIN:VCALENDAR
VERSION:2.0
PRODID:-//ChamberMaster//Event Calendar 2.0//EN
METHOD:PUBLISH
X-PUBLISHED-TTL:P3D
REFRESH-INTERVAL:P3D
CALSCALE:GREGORIAN
BEGIN:VEVENT
DTSTART:20230620T153000Z
DTEND:20230620T163000Z
X-MICROSOFT-CDO-ALLDAYEVENT:FALSE
SUMMARY:T.W.I.N. June Networking Luncheon
DESCRIPTION:Join the ladies of TWIN (Twinsburg Women in Networking) for an hour of lunch and connections!
X-ALT-DESC;FMTTYPE=text/html:<span style="font-size:16px\;">Join the ladies of TWIN (Twinsburg Women in Networking) for an hour of lunch and connections!</span>
LOCATION:Aaron & Moses 2615 Glenwood Drive Twinsburg
UID:e.2230.3237
SEQUENCE:3
DTSTAMP:20260421T101221Z
URL:https://business.twinsburgchamber.com/events/details/t-w-i-n-june-networking-luncheon-3237
END:VEVENT

END:VCALENDAR
