BEGIN:VCALENDAR
VERSION:2.0
PRODID:-//ChamberMaster//Event Calendar 2.0//EN
METHOD:PUBLISH
X-PUBLISHED-TTL:P3D
REFRESH-INTERVAL:P3D
CALSCALE:GREGORIAN
BEGIN:VEVENT
DTSTART:20190521T120000Z
DTEND:20190521T130000Z
X-MICROSOFT-CDO-ALLDAYEVENT:FALSE
SUMMARY:Sugar Addiction - T.W.I.N. (Twinsburg Women In Networking) Meeting
DESCRIPTION:Sugar...Is it really that harmful to our bodies?  Is the addiction real?  Is there a cure?  Come get answers and more!\n\n\n\nGuest Speaker: Johnanna Tanno\, PTA\, CWC\, INHC\, Western Reserve Hospital  \n\n \n\nHosted by T.W.I.N.\, a program of the Twinsburg Chamber of Commerce\, the mission of the group is to create an environment that helps nurture\, develop\, and educate the business women of Twinsburg.\n\nThe event is open to all Chamber members.    \n\n \n\nSponsored by Western Reserve Hospital
X-ALT-DESC;FMTTYPE=text/html:<span style="font-family:arial\;"><span style="font-size:14.0pt\;"><strong>Sugar...Is it really that harmful to our bodies?&nbsp\; Is the addiction real?&nbsp\; Is there a cure?&nbsp\; Come get answers and more!</strong><br />\n<br />\n<span style="color:#FF0000\;"><strong>Guest Speaker: Johnanna Tanno\, PTA\, CWC\, INHC\, Western Reserve Hospital &nbsp\;</strong></span></span></span><br />\n&nbsp\;<br />\n<span style="language:en-US\;"><span style="font-family:arial\;"><span style="font-size:12.0pt\;">Hosted by T.W.I.N.\, a program of the Twinsburg Chamber of Commerce\, the mission of the group is to create an environment that helps nurture\, develop\, and educate the business women of Twinsburg.</span></span></span><br />\n<span style="font-style:italic\;text-decoration:underline\;text-underline:single\;language:en-US\;"><span style="font-family:arial\;"><span style="font-size:12.0pt\;">The event is open to all Chamber members</span></span></span><span style="language:en-US\;"><span style="font-family:arial\;"><span style="font-size:12.0pt\;">.&nbsp\;&nbsp\;&nbsp\; </span></span></span><br />\n&nbsp\;<br />\n<span style="color:#0000FF\;"><span style="font-size:18px\;"><strong>Sponsored by Western Reserve Hospital&nbsp\;</strong></span></span><br />\n<br />\n<br />\n<br />\n<br />\n<br />\n&nbsp\;
LOCATION:Studio Wish Salon 8922 Darrow Road (Rt. 91 Giant Eagle Plaza on corner next to Panera) Twinsburg\, OH 44087
UID:e.2230.2191
SEQUENCE:3
DTSTAMP:20260422T080534Z
URL:https://business.twinsburgchamber.com/events/details/sugar-addiction-t-w-i-n-twinsburg-women-in-networking-meeting-2191
END:VEVENT

END:VCALENDAR
