BEGIN:VCALENDAR
VERSION:2.0
PRODID:-//ChamberMaster//Event Calendar 2.0//EN
METHOD:PUBLISH
X-PUBLISHED-TTL:P3D
REFRESH-INTERVAL:P3D
CALSCALE:GREGORIAN
BEGIN:VEVENT
DTSTART:20170504T153000Z
DTEND:20170504T171500Z
X-MICROSOFT-CDO-ALLDAYEVENT:FALSE
SUMMARY:State of the Twinsburg City Schools & Scholarship Luncheon
DESCRIPTION:Learn about our Schools District's accomplishments in 2016\n	Hear about the Superintendent's vision for the future of our schools\n	2017 Twinsburg Chamber Scholarship Awarded\n	*New This Year! The Rotary Club of Twinsburg will also award their "Teacher of the Year"!
X-ALT-DESC;FMTTYPE=text/html:&nbsp\;\n<ul>\n	<li><span style="font-size:14px\;"><span style="font-family:arial\;">Learn about our&nbsp\;Schools District&#39\;s&nbsp\;accomplishments in 2016</span></span></li>\n	<li><span style="font-size:14px\;"><span style="font-family:arial\;">Hear about the Superintendent&#39\;s&nbsp\;vision for the future of our schools</span></span></li>\n	<li><span style="font-size:14px\;"><span style="font-family:arial\;">2017 Twinsburg Chamber Scholarship Awarded</span></span></li>\n	<li><span style="font-size:14px\;"><span style="font-family:arial\;"><span style="color:#000080\;"><strong>*New This Year! </strong></span>The Rotary Club of Twinsburg will also award their &quot\;Teacher of the Year&quot\;!&nbsp\;</span></span></li>\n</ul>\n
LOCATION:Twinsburg Hilton Garden Inn 8971 Wilcox Drive Twinsburg\, OH 44087
UID:e.2230.1744
SEQUENCE:3
DTSTAMP:20260420T123915Z
URL:https://business.twinsburgchamber.com/events/details/state-of-the-twinsburg-city-schools-scholarship-luncheon-1744
END:VEVENT

END:VCALENDAR
