BEGIN:VCALENDAR
VERSION:2.0
PRODID:-//ChamberMaster//Event Calendar 2.0//EN
METHOD:PUBLISH
X-PUBLISHED-TTL:P3D
REFRESH-INTERVAL:P3D
CALSCALE:GREGORIAN
BEGIN:VEVENT
DTSTART:20160505T153000Z
DTEND:20160505T171500Z
X-MICROSOFT-CDO-ALLDAYEVENT:FALSE
SUMMARY:State of the Twinsburg City Schools & Scholarship Luncheon
DESCRIPTION:Learn about our Schools District's accomplishments in 2015\n	Hear about the Superintendent's vision for the future of our schools\n	2016 Twinsburg Chamber Scholarship Awarded
X-ALT-DESC;FMTTYPE=text/html:&nbsp\;\n<ul>\n	<li><span style="font-size:14px\;"><span style="font-family:arial\;">Learn about our&nbsp\;Schools District&#39\;s&nbsp\;accomplishments in 2015</span></span></li>\n	<li><span style="font-size:14px\;"><span style="font-family:arial\;">Hear about the Superintendent&#39\;s&nbsp\;vision for the future of our schools</span></span></li>\n	<li><span style="font-size:14px\;"><span style="font-family:arial\;">2016 Twinsburg Chamber Scholarship Awarded&nbsp\;</span></span></li>\n</ul>\n
LOCATION:Twinsburg Hilton Garden Inn 8971 Wilcox Drive Twinsburg\, OH 44087
UID:e.2230.361
SEQUENCE:3
DTSTAMP:20260419T154402Z
URL:https://business.twinsburgchamber.com/events/details/state-of-the-twinsburg-city-schools-scholarship-luncheon-05-05-2016-361
END:VEVENT

END:VCALENDAR
