BEGIN:VCALENDAR
VERSION:2.0
PRODID:-//ChamberMaster//Event Calendar 2.0//EN
METHOD:PUBLISH
X-PUBLISHED-TTL:P3D
REFRESH-INTERVAL:P3D
CALSCALE:GREGORIAN
BEGIN:VEVENT
DTSTART:20160219T123000Z
DTEND:20160219T140000Z
X-MICROSOFT-CDO-ALLDAYEVENT:FALSE
SUMMARY:S.E.L. Breakfast - Creating an Internship Program
DESCRIPTION:Held the third Friday of each month\, this is the kickoff semester for a breakfast that promises to be a dynamic as it's twenty-five year old counterpart in Geauga County. \n\n\n\nThis is another great opportunity to bring business and industry leaders together to network\, learn and collaborate.\n\n\n\nFebruary Topic:\n\n\n\nCreating an Internship Program \n\n\n\nPresented by LuAnn Linson Coldwell\, M.A.\n\nCareer Advisor at the Regional Academic Center\n\n\n	Did you know highly qualified are available to your company?\n	Do you know how to recruit students for internships? \n	Have you ever thought about implementing an internship program but didn't know how to begin?\n\nJoin us for this special presentation and learn the answers to all of the questions and more!
X-ALT-DESC;FMTTYPE=text/html:<br />\n<span style="font-size:14px\;"><span style="font-family:arial\;">Held the third Friday of each month\, this is the kickoff semester for a breakfast that promises to be a dynamic as it&#39\;s twenty-five year old counterpart in Geauga&nbsp\;County.&nbsp\;<br />\n<br />\nThis is another great opportunity&nbsp\;to bring business and industry leaders together to network\, learn and collaborate.<br />\n<br />\n<u><strong><span style="color:#000080\;">February&nbsp\;Topic:</span></strong></u><br />\n<br />\n<span style="color:#000080\;"><strong><span style="font-size:16px\;">Creating an Internship Program&nbsp\;</span></strong></span><br />\n<br />\nPresented by LuAnn&nbsp\;Linson Coldwell\, M.A.<br />\n<span style="font-size:12px\;">Career Advisor at the Regional Academic Center</span></span></span>\n\n<ul>\n	<li><span style="font-size:14px\;"><span style="font-family:arial\;">Did you know highly qualified are available to your company?</span></span></li>\n	<li><span style="font-size:14px\;"><span style="font-family:arial\;">Do you know how to recruit students for internships?&nbsp\;</span></span></li>\n	<li><span style="font-size:14px\;"><span style="font-family:arial\;">Have you ever thought about implementing an internship program but didn&#39\;t know how to begin?</span></span></li>\n</ul>\n<span style="font-size:14px\;"><span style="font-family:arial\;">Join us for this special presentation and learn the answers to all of the questions and more!&nbsp\;</span></span><br />\n&nbsp\;
LOCATION:Kent State Regional Academic Center 2745 Creekside Drive Twinsburg\, OH 44087
UID:e.2230.318
SEQUENCE:3
DTSTAMP:20260421T104028Z
URL:https://business.twinsburgchamber.com/events/details/s-e-l-breakfast-creating-an-internship-program-02-19-2016-318
END:VEVENT

END:VCALENDAR
