BEGIN:VCALENDAR
VERSION:2.0
PRODID:-//ChamberMaster//Event Calendar 2.0//EN
METHOD:PUBLISH
X-PUBLISHED-TTL:P3D
REFRESH-INTERVAL:P3D
CALSCALE:GREGORIAN
BEGIN:VEVENT
DTSTART:20160428T200000Z
DTEND:20160428T230000Z
X-MICROSOFT-CDO-ALLDAYEVENT:FALSE
SUMMARY:Rock'n'Roll Eyewear Fashion Show at Twinsburg Eye Associates
DESCRIPTION:Eyewear Fashion Show at Twinsburg Eye Associates Thursday\, April 28th 4:00-7:00 PM. \n\nWe will be featuring Gwen Stefani's L.A.M.B. and gx lines that are Rock'n'Roll chic. \n\nCOMPLIMENTARY hand and arm massages provided by Wellspring Studio during the show.  \n\nEnter a drawing to win a FREE pair of L.A.M.B. sunglasses and other prizes!\n\n40% Frame Savings during the show!\n\nAll lenses and frames are backed by our exclusive two-year warranty. \n\nRefreshments will be served.
X-ALT-DESC;FMTTYPE=text/html:<em><span style="background-color:rgb(238\, 130\, 238)">Eyewear Fashion Show at Twinsburg Eye Associates Thursday\, April 28th 4:00-7:00 PM. </span><br />\n<span style="background-color:rgb(238\, 130\, 238)">We will be featuring Gwen Stefani&#39\;s L.A.M.B. and gx lines that are Rock&#39\;n&#39\;Roll chic. </span><br />\n<span style="background-color:rgb(238\, 130\, 238)">COMPLIMENTARY hand and arm massages provided by Wellspring Studio during the show.&nbsp\; </span><br />\n<span style="background-color:rgb(238\, 130\, 238)">Enter a drawing to win a FREE pair of L.A.M.B. sunglasses and other prizes!</span><br />\n<span style="background-color:rgb(238\, 130\, 238)">40% Frame Savings during the show!<br />\nAll lenses and frames are backed by our exclusive two-year warranty.&nbsp\;<br />\nRefreshments will be served.&nbsp\; </span></em><br />\n&nbsp\;
LOCATION:9224 Darrow Road Twinsburg OH 44087
UID:e.2230.350
SEQUENCE:3
DTSTAMP:20260419T141552Z
URL:https://business.twinsburgchamber.com/events/details/rock-n-roll-eyewear-fashion-show-at-twinsburg-eye-associates-04-28-2016-350
END:VEVENT

END:VCALENDAR
