BEGIN:VCALENDAR
VERSION:2.0
PRODID:-//ChamberMaster//Event Calendar 2.0//EN
METHOD:PUBLISH
X-PUBLISHED-TTL:P3D
REFRESH-INTERVAL:P3D
CALSCALE:GREGORIAN
BEGIN:VEVENT
DTSTART:20161214T220000Z
DTEND:20161214T233000Z
X-MICROSOFT-CDO-ALLDAYEVENT:FALSE
SUMMARY:Ribbon Cutting - Valentino's Bridal & Tailoring
DESCRIPTION:Join the Twinsburg Chamber as we help Valentino's Bridal & Tailoring celebrate their new bridal section! Light refreshments and drinks will be provided. All are welcome to attend!
X-ALT-DESC;FMTTYPE=text/html:<br />\n<span style="font-size:14px\;"><span style="font-family:arial\;">Join the Twinsburg Chamber as we help <a href="http://www.valentinosohio.com" target="_blank"><span style="color:#4B0082\;">Valentino&#39\;s Bridal &amp\; Tailoring</span></a> celebrate their new bridal section! Light refreshments and drinks will be provided. All are welcome to attend!</span></span>
LOCATION:Valentino's Bridal & Tailoring 9630 Ravenna Road\, Suite 200 Twinsburg\, OH 44087
UID:e.2230.1679
SEQUENCE:3
DTSTAMP:20260420T040236Z
URL:https://business.twinsburgchamber.com/events/details/ribbon-cutting-valentino-s-bridal-tailoring-1679
END:VEVENT

END:VCALENDAR
