BEGIN:VCALENDAR
VERSION:2.0
PRODID:-//ChamberMaster//Event Calendar 2.0//EN
METHOD:PUBLISH
X-PUBLISHED-TTL:P3D
REFRESH-INTERVAL:P3D
CALSCALE:GREGORIAN
BEGIN:VEVENT
DTSTART:20231102T170000Z
DTEND:20231102T173000Z
X-MICROSOFT-CDO-ALLDAYEVENT:FALSE
SUMMARY:Ribbon Cutting for Twinsburg Township
DESCRIPTION:Join us as we celebrate the completion of Twinsburg Township's Heights Road Reconstruction Project... A 20-year\, 20-phase\, multi-million dollar project!
X-ALT-DESC;FMTTYPE=text/html:<span style="font-size:22px\;">Join us as we celebrate the completion of Twinsburg Township&#39\;s Heights Road Reconstruction Project... A 20-year\, 20-phase\, multi-million dollar project!</span>
LOCATION:Harvard Road-between Case Street and Stanford Street *Harvard Road in this area will be closed to vehicles briefly for the event
UID:e.2230.3253
SEQUENCE:3
DTSTAMP:20260421T190540Z
URL:https://business.twinsburgchamber.com/events/details/ribbon-cutting-for-twinsburg-township-3253
END:VEVENT

END:VCALENDAR
