BEGIN:VCALENDAR
VERSION:2.0
PRODID:-//ChamberMaster//Event Calendar 2.0//EN
METHOD:PUBLISH
X-PUBLISHED-TTL:P3D
REFRESH-INTERVAL:P3D
CALSCALE:GREGORIAN
BEGIN:VEVENT
DTSTART:20240410T160000Z
DTEND:20240410T163000Z
X-MICROSOFT-CDO-ALLDAYEVENT:FALSE
SUMMARY:Ribbon Cutting for Smoke Outlet
DESCRIPTION:Join us for a Ribbon Cutting ceremony to celebrate the Grand Opening of the Smoke Outlet!
X-ALT-DESC;FMTTYPE=text/html:Join us for a Ribbon Cutting ceremony to celebrate the Grand Opening of the Smoke Outlet!
LOCATION:9224 Darrow Road Twinsburg
UID:e.2230.3270
SEQUENCE:3
DTSTAMP:20260422T044953Z
URL:https://business.twinsburgchamber.com/events/details/ribbon-cutting-for-smoke-outlet-3270
END:VEVENT

END:VCALENDAR
