BEGIN:VCALENDAR
VERSION:2.0
PRODID:-//ChamberMaster//Event Calendar 2.0//EN
METHOD:PUBLISH
X-PUBLISHED-TTL:P3D
REFRESH-INTERVAL:P3D
CALSCALE:GREGORIAN
BEGIN:VEVENT
DTSTART:20250521T160000Z
DTEND:20250521T163000Z
X-MICROSOFT-CDO-ALLDAYEVENT:FALSE
SUMMARY:Ribbon Cutting for Home Appliance
DESCRIPTION:Join us as we welcome Home Appliance to the community with a Ribbon Cutting ceremony! \n\n(their grand opening will take place in June)
X-ALT-DESC;FMTTYPE=text/html:<strong><span style="font-size:18px\;">Join us as we welcome Home Appliance to the community with a Ribbon Cutting ceremony!</span></strong>&nbsp\;<br />\n<em>(their grand opening will take place in June)</em>
LOCATION:
UID:e.2230.3296
SEQUENCE:3
DTSTAMP:20260421T180524Z
URL:https://business.twinsburgchamber.com/events/details/ribbon-cutting-for-home-appliance-3296
END:VEVENT

END:VCALENDAR
