BEGIN:VCALENDAR
VERSION:2.0
PRODID:-//ChamberMaster//Event Calendar 2.0//EN
METHOD:PUBLISH
X-PUBLISHED-TTL:P3D
REFRESH-INTERVAL:P3D
CALSCALE:GREGORIAN
BEGIN:VEVENT
DTSTART:20230518T190000Z
DTEND:20230518T193000Z
X-MICROSOFT-CDO-ALLDAYEVENT:FALSE
SUMMARY:Ribbon Cutting Ceremony-PK Financial
DESCRIPTION:Please join us for a Ribbon Cutting ceremony at PK Financial's new location!
X-ALT-DESC;FMTTYPE=text/html:<span style="font-size:18px\;">Please join us for a Ribbon Cutting ceremony at PK Financial&#39\;s new location!</span>
LOCATION:8054 Darrow Road\, Bldg. D-1 Twinsburg
UID:e.2230.3234
SEQUENCE:3
DTSTAMP:20260421T101502Z
URL:https://business.twinsburgchamber.com/events/details/ribbon-cutting-ceremony-pk-financial-3234
END:VEVENT

END:VCALENDAR
