BEGIN:VCALENDAR
VERSION:2.0
PRODID:-//ChamberMaster//Event Calendar 2.0//EN
METHOD:PUBLISH
X-PUBLISHED-TTL:P3D
REFRESH-INTERVAL:P3D
CALSCALE:GREGORIAN
BEGIN:VEVENT
DTSTART:20231207T170000Z
DTEND:20231207T173000Z
X-MICROSOFT-CDO-ALLDAYEVENT:FALSE
SUMMARY:Ribbon Cutting Ceremony for UH Urgent Care
DESCRIPTION:Join us to celebrate the Grand Opening of the Twinsburg clinic\, enhancing care for illnesses and injuries in the community.\n\n*light refreshments and guided tour of the new facility following the ceremony
X-ALT-DESC;FMTTYPE=text/html:Join us to celebrate the Grand Opening of the Twinsburg clinic\, enhancing care for illnesses and injuries in the community.<br />\n<em>*light refreshments and guided tour of the new facility following the ceremony</em>
LOCATION:2700 E. Aurora Road Twinsburg
UID:e.2230.3255
SEQUENCE:3
DTSTAMP:20260421T225214Z
URL:https://business.twinsburgchamber.com/events/details/ribbon-cutting-ceremony-for-uh-urgent-care-3255
END:VEVENT

END:VCALENDAR
