BEGIN:VCALENDAR
VERSION:2.0
PRODID:-//ChamberMaster//Event Calendar 2.0//EN
METHOD:PUBLISH
X-PUBLISHED-TTL:P3D
REFRESH-INTERVAL:P3D
CALSCALE:GREGORIAN
BEGIN:VEVENT
DTSTART:20230913T160000Z
DTEND:20230913T163000Z
X-MICROSOFT-CDO-ALLDAYEVENT:FALSE
SUMMARY:Ribbon Cutting Ceremony for PetSuites
DESCRIPTION:JOIN US FOR A RIBBON CUTTING CEREMONY TO OFFICIALLY WELCOME PETSUITES TO TWINSBURG!!!
X-ALT-DESC;FMTTYPE=text/html:<em><strong><span style="font-size:20px\;">JOIN US FOR A RIBBON CUTTING CEREMONY TO OFFICIALLY WELCOME PETSUITES TO TWINSBURG!!!</span></strong></em>
LOCATION:8275 Darrow Road Twinsburg
UID:e.2230.3244
SEQUENCE:3
DTSTAMP:20260421T153821Z
URL:https://business.twinsburgchamber.com/events/details/ribbon-cutting-ceremony-for-petsuites-3244
END:VEVENT

END:VCALENDAR
