BEGIN:VCALENDAR
VERSION:2.0
PRODID:-//ChamberMaster//Event Calendar 2.0//EN
METHOD:PUBLISH
X-PUBLISHED-TTL:P3D
REFRESH-INTERVAL:P3D
CALSCALE:GREGORIAN
BEGIN:VEVENT
DTSTART:20160114T230000Z
DTEND:20160115T010000Z
X-MICROSOFT-CDO-ALLDAYEVENT:FALSE
SUMMARY:RAMTEC Grand Opening Celebration
DESCRIPTION:You're Invited! RAMTEC open house reception celebrating the opening of Cuyahoga Valley Career Center new robotics and advanced manufacturing training center! Experience the revitalized\, dynamic center and learn about customized training and certifications.
X-ALT-DESC;FMTTYPE=text/html:<br />\n<span style="font-size:14px\;"><span style="font-family:arial\;">You&#39\;re Invited! RAMTEC open house reception celebrating the opening of Cuyahoga Valley Career Center new robotics and advanced&nbsp\;manufacturing&nbsp\;training center! Experience&nbsp\;the revitalized\, dynamic center and learn about customized training and certifications.&nbsp\;&nbsp\;</span></span>
LOCATION:Cuyahoga Valley Career Center 8001 Brecksville Road Brecksville\, OH 44141
UID:e.2230.310
SEQUENCE:3
DTSTAMP:20260421T091811Z
URL:https://business.twinsburgchamber.com/events/details/ramtec-grand-opening-celebration-01-14-2016-310
END:VEVENT

END:VCALENDAR
